BEGIN:VCALENDAR
VERSION:2.0
PRODID:-//Sarvha Foundation - ECPv6.15.12.2//NONSGML v1.0//EN
CALSCALE:GREGORIAN
METHOD:PUBLISH
X-WR-CALNAME:Sarvha Foundation
X-ORIGINAL-URL:https://sarvha.org
X-WR-CALDESC:Events for Sarvha Foundation
REFRESH-INTERVAL;VALUE=DURATION:PT1H
X-Robots-Tag:noindex
X-PUBLISHED-TTL:PT1H
BEGIN:VTIMEZONE
TZID:Asia/Kolkata
BEGIN:STANDARD
TZOFFSETFROM:+0530
TZOFFSETTO:+0530
TZNAME:IST
DTSTART:20240101T000000
END:STANDARD
END:VTIMEZONE
BEGIN:VEVENT
DTSTART;TZID=Asia/Kolkata:20250929T130000
DTEND;TZID=Asia/Kolkata:20250929T140000
DTSTAMP:20260423T043133
CREATED:20250929T091658Z
LAST-MODIFIED:20251022T092844Z
UID:7390-1759150800-1759154400@sarvha.org
SUMMARY:Special speech session on Navratri at Sir Ganga Ram Hospital
DESCRIPTION:Founder Acharya Anita presented an engaging speech for the Nursing staff and Doctors regarding the significance of the ongoing Navratri at Sir Gangaram Hospital.
URL:https://sarvha.org/calendar/special-speech-session-on-navratri-at-sir-ganga-ram-hospital/
LOCATION:Sir Ganga Ram Hospital\, Rajinder Nagar\, New Delhi\, Delhi\, 110060\, India
CATEGORIES:Event,Motivational
ATTACH;FMTTYPE=image/jpeg:https://sarvha.org/wp-content/uploads/2025/10/Navratri-Speech-at-SGRH.jpg
END:VEVENT
END:VCALENDAR