BEGIN:VCALENDAR
VERSION:2.0
PRODID:-//Sarvha Foundation - ECPv6.15.12.2//NONSGML v1.0//EN
CALSCALE:GREGORIAN
METHOD:PUBLISH
X-WR-CALNAME:Sarvha Foundation
X-ORIGINAL-URL:https://sarvha.org
X-WR-CALDESC:Events for Sarvha Foundation
REFRESH-INTERVAL;VALUE=DURATION:PT1H
X-Robots-Tag:noindex
X-PUBLISHED-TTL:PT1H
BEGIN:VTIMEZONE
TZID:Asia/Kolkata
BEGIN:STANDARD
TZOFFSETFROM:+0530
TZOFFSETTO:+0530
TZNAME:IST
DTSTART:20240101T000000
END:STANDARD
END:VTIMEZONE
BEGIN:VEVENT
DTSTART;TZID=Asia/Kolkata:20250613T170000
DTEND;TZID=Asia/Kolkata:20250613T173000
DTSTAMP:20260423T102754
CREATED:20250728T084003Z
LAST-MODIFIED:20250728T084003Z
UID:7354-1749834000-1749835800@sarvha.org
SUMMARY:Founder Trustee’s Meeting with with the Honorable Former President of India
DESCRIPTION:Trustee Acharya Anita had the honor of making a courtesy visit to former President of India\, Mr. Ram Nath Kovind ji\, at his residence\, where she presented him with a copy of her book ‘Sadhana Vigyan’. They engaged in discussions on various topics\, including India’s spiritual traditions and its rich cultural heritage.
URL:https://sarvha.org/calendar/founder-trustees-meeting-with-with-the-honorable-former-president-of-india/
LOCATION:12 Janpath\, New Delhi\, 12 Janpath\, New Delhi\, Delhi\, 110004\, India
CATEGORIES:Event,Motivational
ATTACH;FMTTYPE=image/jpeg:https://sarvha.org/wp-content/uploads/2025/07/Meeting_Ram_nath_Kovind_ji.jpg
END:VEVENT
END:VCALENDAR