BEGIN:VCALENDAR
VERSION:2.0
PRODID:-//Sarvha Foundation - ECPv6.15.12.2//NONSGML v1.0//EN
CALSCALE:GREGORIAN
METHOD:PUBLISH
X-ORIGINAL-URL:https://sarvha.org
X-WR-CALDESC:Events for Sarvha Foundation
REFRESH-INTERVAL;VALUE=DURATION:PT1H
X-Robots-Tag:noindex
X-PUBLISHED-TTL:PT1H
BEGIN:VTIMEZONE
TZID:Asia/Kolkata
BEGIN:STANDARD
TZOFFSETFROM:+0530
TZOFFSETTO:+0530
TZNAME:IST
DTSTART:20240101T000000
END:STANDARD
END:VTIMEZONE
BEGIN:VEVENT
DTSTART;TZID=Asia/Kolkata:20250808T150000
DTEND;TZID=Asia/Kolkata:20250808T160000
DTSTAMP:20260423T073043
CREATED:20250808T075720Z
LAST-MODIFIED:20250816T075740Z
UID:7376-1754665200-1754668800@sarvha.org
SUMMARY:Sarvha Foundation's Tree Plantation Drive 2025
DESCRIPTION:As in previous years\, the Sarvha Foundation has launched its annual tree plantation drive on August 8\, 2025\, along the Yamuna bank in Wazirabad village\, Delhi.
URL:https://sarvha.org/calendar/sarvha-foundations-tree-plantation-drive-2025/
LOCATION:Wazirabad Village\, Shiv Mandir\, Wazirabad Village\, Delhi\, Delhi\, 110084\, India
CATEGORIES:Environment,Event,Welfare
ATTACH;FMTTYPE=image/jpeg:https://sarvha.org/wp-content/uploads/2025/08/Tree_Plantation25_FI.jpg
END:VEVENT
END:VCALENDAR