BEGIN:VCALENDAR
VERSION:2.0
PRODID:-//Sarvha Foundation - ECPv6.15.12.2//NONSGML v1.0//EN
CALSCALE:GREGORIAN
METHOD:PUBLISH
X-WR-CALNAME:Sarvha Foundation
X-ORIGINAL-URL:https://sarvha.org
X-WR-CALDESC:Events for Sarvha Foundation
REFRESH-INTERVAL;VALUE=DURATION:PT1H
X-Robots-Tag:noindex
X-PUBLISHED-TTL:PT1H
BEGIN:VTIMEZONE
TZID:Asia/Kolkata
BEGIN:STANDARD
TZOFFSETFROM:+0530
TZOFFSETTO:+0530
TZNAME:IST
DTSTART:20250101T000000
END:STANDARD
END:VTIMEZONE
BEGIN:VEVENT
DTSTART;TZID=Asia/Kolkata:20260206T130000
DTEND;TZID=Asia/Kolkata:20260206T140000
DTSTAMP:20260422T215214
CREATED:20260208T183833Z
LAST-MODIFIED:20260208T183833Z
UID:7469-1770382800-1770386400@sarvha.org
SUMMARY:Wellness session with medical staff @ Sir Ganga Ram Hospital
DESCRIPTION:Sarvha Foundation\, collaborated with the medical and nursing staff from Sir Ganga Ram Hospital in New Delhi during a wellness session that emphasized spirituality in healthcare.
URL:https://sarvha.org/calendar/wellness-session-with-medical-staff-sir-ganga-ram-hospital/
LOCATION:Sir Ganga Ram Hospital\, Rajinder Nagar\, New Delhi\, Delhi\, 110060\, India
CATEGORIES:Event,Motivational
ATTACH;FMTTYPE=image/jpeg:https://sarvha.org/wp-content/uploads/2026/02/SGRH_Feb_26_01.jpg
END:VEVENT
END:VCALENDAR