BEGIN:VCALENDAR
VERSION:2.0
PRODID:-//Sarvha Foundation - ECPv6.15.12.2//NONSGML v1.0//EN
CALSCALE:GREGORIAN
METHOD:PUBLISH
X-ORIGINAL-URL:https://sarvha.org
X-WR-CALDESC:Events for Sarvha Foundation
REFRESH-INTERVAL;VALUE=DURATION:PT1H
X-Robots-Tag:noindex
X-PUBLISHED-TTL:PT1H
BEGIN:VTIMEZONE
TZID:UTC
BEGIN:STANDARD
TZOFFSETFROM:+0000
TZOFFSETTO:+0000
TZNAME:UTC
DTSTART:20220101T000000
END:STANDARD
END:VTIMEZONE
BEGIN:VEVENT
DTSTART;TZID=UTC:20231216T080000
DTEND;TZID=UTC:20231216T170000
DTSTAMP:20260424T170609
CREATED:20231216T045745Z
LAST-MODIFIED:20231216T045745Z
UID:7016-1702713600-1702746000@sarvha.org
SUMMARY:Computer Education Center @ Faridabad
DESCRIPTION:An image from the collaborative computer education center run by the Sarvha Foundation with the Sohum Foundation in Faridabad\, where eager and underprivileged children from the neighborhood attend to receive the fundamentals of computers.
URL:https://sarvha.org/calendar/computer-education-center-faridabad/
CATEGORIES:Skill Development,Welfare
ATTACH;FMTTYPE=image/jpeg:https://sarvha.org/wp-content/uploads/2023/12/Faridabad_center_1.jpg
END:VEVENT
END:VCALENDAR