BEGIN:VCALENDAR
VERSION:2.0
PRODID:-//Sarvha Foundation - ECPv6.15.12.2//NONSGML v1.0//EN
CALSCALE:GREGORIAN
METHOD:PUBLISH
X-WR-CALNAME:Sarvha Foundation
X-ORIGINAL-URL:https://sarvha.org
X-WR-CALDESC:Events for Sarvha Foundation
REFRESH-INTERVAL;VALUE=DURATION:PT1H
X-Robots-Tag:noindex
X-PUBLISHED-TTL:PT1H
BEGIN:VTIMEZONE
TZID:Asia/Kolkata
BEGIN:STANDARD
TZOFFSETFROM:+0530
TZOFFSETTO:+0530
TZNAME:IST
DTSTART:20180101T000000
END:STANDARD
END:VTIMEZONE
BEGIN:VEVENT
DTSTART;VALUE=DATE:20200317
DTEND;VALUE=DATE:20200318
DTSTAMP:20260423T035436
CREATED:20210104T060042Z
LAST-MODIFIED:20210104T060042Z
UID:3194-1584403200-1584489599@sarvha.org
SUMMARY:Free Health Check Up Camp - Tolstoy Marg
DESCRIPTION:
URL:https://sarvha.org/calendar/free-health-check-up-camp-tolstoy-marg-3/
CATEGORIES:Healthcare
ATTACH;FMTTYPE=image/jpeg:https://sarvha.org/wp-content/uploads/2021/01/Prakashdeep_march_20.jpg
END:VEVENT
BEGIN:VEVENT
DTSTART;VALUE=DATE:20200314
DTEND;VALUE=DATE:20200315
DTSTAMP:20260423T035436
CREATED:20210104T060600Z
LAST-MODIFIED:20210104T060600Z
UID:3197-1584144000-1584230399@sarvha.org
SUMMARY:Food Package Distribution for Needy
DESCRIPTION:
URL:https://sarvha.org/calendar/food-package-distribution-for-needy/
CATEGORIES:Welfare
ATTACH;FMTTYPE=image/jpeg:https://sarvha.org/wp-content/uploads/2021/01/Food_distribution_march_20.jpg
END:VEVENT
BEGIN:VEVENT
DTSTART;VALUE=DATE:20200313
DTEND;VALUE=DATE:20200314
DTSTAMP:20260423T035436
CREATED:20210104T055651Z
LAST-MODIFIED:20210104T055651Z
UID:3192-1584057600-1584143999@sarvha.org
SUMMARY:Free Health Check Up Camp - Gole Market
DESCRIPTION:
URL:https://sarvha.org/calendar/free-health-check-up-camp-gole-market-3/
CATEGORIES:Healthcare
ATTACH;FMTTYPE=image/jpeg:https://sarvha.org/wp-content/uploads/2020/01/GoleMarket-FI2.jpg
END:VEVENT
BEGIN:VEVENT
DTSTART;TZID=Asia/Kolkata:20200302T080000
DTEND;TZID=Asia/Kolkata:20200302T170000
DTSTAMP:20260423T035436
CREATED:20210104T091144Z
LAST-MODIFIED:20210104T091144Z
UID:3241-1583136000-1583168400@sarvha.org
SUMMARY:Beginning of Free Computer Education Center - Bhajanpura
DESCRIPTION:
URL:https://sarvha.org/calendar/beginning-of-free-computer-education-center-bhajanpura/
CATEGORIES:Skill Development
ATTACH;FMTTYPE=image/jpeg:https://sarvha.org/wp-content/uploads/2021/01/center.jpg
END:VEVENT
BEGIN:VEVENT
DTSTART;VALUE=DATE:20200220
DTEND;VALUE=DATE:20200221
DTSTAMP:20260423T035436
CREATED:20210104T055532Z
LAST-MODIFIED:20210104T055532Z
UID:3189-1582156800-1582243199@sarvha.org
SUMMARY:Free Health Check Up Camp - Karawal Nagar
DESCRIPTION:
URL:https://sarvha.org/calendar/free-health-check-up-camp-karawal-nagar/
CATEGORIES:Healthcare
ATTACH;FMTTYPE=image/jpeg:https://sarvha.org/wp-content/uploads/2020/02/Karawal-Nagar-FI2.jpg
END:VEVENT
BEGIN:VEVENT
DTSTART;VALUE=DATE:20200131
DTEND;VALUE=DATE:20200201
DTSTAMP:20260423T035436
CREATED:20210104T055229Z
LAST-MODIFIED:20210104T055229Z
UID:3187-1580428800-1580515199@sarvha.org
SUMMARY:Free Health Check Up Camp - Gole Market
DESCRIPTION:
URL:https://sarvha.org/calendar/free-health-check-up-camp-gole-market-2/
CATEGORIES:Healthcare
ATTACH;FMTTYPE=image/jpeg:https://sarvha.org/wp-content/uploads/2020/01/GoleMarket-FI2.jpg
END:VEVENT
BEGIN:VEVENT
DTSTART;VALUE=DATE:20200124
DTEND;VALUE=DATE:20200125
DTSTAMP:20260423T035436
CREATED:20210104T055036Z
LAST-MODIFIED:20210104T055036Z
UID:3184-1579824000-1579910399@sarvha.org
SUMMARY:Free Health Check Up Camp - Bhajanpura
DESCRIPTION:
URL:https://sarvha.org/calendar/free-health-check-up-camp-bhajanpura/
CATEGORIES:Healthcare
ATTACH;FMTTYPE=image/jpeg:https://sarvha.org/wp-content/uploads/2020/01/BhajanpuraFI2.jpg
END:VEVENT
BEGIN:VEVENT
DTSTART;VALUE=DATE:20200122
DTEND;VALUE=DATE:20200123
DTSTAMP:20260423T035436
CREATED:20210104T080822Z
LAST-MODIFIED:20210104T080822Z
UID:3236-1579651200-1579737599@sarvha.org
SUMMARY:Blanket Distribution for Building Facilty Staff  - Prakash Deep Building
DESCRIPTION:
URL:https://sarvha.org/calendar/blanket-distribution-for-building-facilty-staff-prakash-deep-building/
CATEGORIES:Welfare
ATTACH;FMTTYPE=image/jpeg:https://sarvha.org/wp-content/uploads/2020/01/Blanket-Prakash-Deep.jpg
END:VEVENT
BEGIN:VEVENT
DTSTART;VALUE=DATE:20200119
DTEND;VALUE=DATE:20200120
DTSTAMP:20260423T035436
CREATED:20210104T054607Z
LAST-MODIFIED:20210104T054607Z
UID:3182-1579392000-1579478399@sarvha.org
SUMMARY:Free Health Check Up Camp - Sangli Mess
DESCRIPTION:
URL:https://sarvha.org/calendar/free-health-check-up-camp-sangli-mess-3/
CATEGORIES:Healthcare
ATTACH;FMTTYPE=image/jpeg:https://sarvha.org/wp-content/uploads/2020/01/SangliMess20FI2.jpg
END:VEVENT
BEGIN:VEVENT
DTSTART;VALUE=DATE:20200109
DTEND;VALUE=DATE:20200110
DTSTAMP:20260423T035436
CREATED:20210104T054400Z
LAST-MODIFIED:20210104T054400Z
UID:3180-1578528000-1578614399@sarvha.org
SUMMARY:Free Health Check Up Camp - Tolstoy Marg
DESCRIPTION:
URL:https://sarvha.org/calendar/free-health-check-up-camp-tolstoy-marg-2/
CATEGORIES:Healthcare
ATTACH;FMTTYPE=image/jpeg:https://sarvha.org/wp-content/uploads/2020/01/Prakashdeep20FIweb.jpg
END:VEVENT
BEGIN:VEVENT
DTSTART;VALUE=DATE:20191227
DTEND;VALUE=DATE:20191228
DTSTAMP:20260423T035436
CREATED:20210104T054113Z
LAST-MODIFIED:20210104T054113Z
UID:3178-1577404800-1577491199@sarvha.org
SUMMARY:Free Health Check Up Camp - Tilak Lane
DESCRIPTION:
URL:https://sarvha.org/calendar/free-health-check-up-camp-tilak-lane-2/
CATEGORIES:Healthcare
ATTACH;FMTTYPE=image/jpeg:https://sarvha.org/wp-content/uploads/2020/01/Tilaklane19FI.jpg
END:VEVENT
BEGIN:VEVENT
DTSTART;VALUE=DATE:20191217
DTEND;VALUE=DATE:20191218
DTSTAMP:20260423T035436
CREATED:20210104T053933Z
LAST-MODIFIED:20210104T053933Z
UID:3176-1576540800-1576627199@sarvha.org
SUMMARY:Free Health Check Up Camp - Purana Qila Road
DESCRIPTION:
URL:https://sarvha.org/calendar/free-health-check-up-camp-purana-qila-road-6/
CATEGORIES:Healthcare
ATTACH;FMTTYPE=image/jpeg:https://sarvha.org/wp-content/uploads/2019/12/PuranaQilaDec19FI2.jpg
END:VEVENT
BEGIN:VEVENT
DTSTART;VALUE=DATE:20191130
DTEND;VALUE=DATE:20191201
DTSTAMP:20260423T035436
CREATED:20210104T053707Z
LAST-MODIFIED:20210104T053707Z
UID:3174-1575072000-1575158399@sarvha.org
SUMMARY:Free Health Check Up Camp - Wazirabad Village
DESCRIPTION:
URL:https://sarvha.org/calendar/free-health-check-up-camp-wazirabad-village-2/
CATEGORIES:Healthcare
ATTACH;FMTTYPE=image/jpeg:https://sarvha.org/wp-content/uploads/2019/12/WazirabadNov19FI2.jpg
END:VEVENT
BEGIN:VEVENT
DTSTART;VALUE=DATE:20191124
DTEND;VALUE=DATE:20191125
DTSTAMP:20260423T035436
CREATED:20210104T053448Z
LAST-MODIFIED:20210104T053448Z
UID:3171-1574553600-1574639999@sarvha.org
SUMMARY:Free Health Check Up Camp - Sector 12\, R K Puram
DESCRIPTION:
URL:https://sarvha.org/calendar/free-health-check-up-camp-sector-12-r-k-puram/
CATEGORIES:Healthcare
ATTACH;FMTTYPE=image/jpeg:https://sarvha.org/wp-content/uploads/2019/11/RKPuramFI2.jpg
END:VEVENT
BEGIN:VEVENT
DTSTART;VALUE=DATE:20191119
DTEND;VALUE=DATE:20191120
DTSTAMP:20260423T035436
CREATED:20210104T052758Z
LAST-MODIFIED:20210104T052758Z
UID:3169-1574121600-1574207999@sarvha.org
SUMMARY:Free Health Check Up Camp - Khajoori Khas
DESCRIPTION:
URL:https://sarvha.org/calendar/free-health-check-up-camp-khajoori-khas-2/
CATEGORIES:Healthcare
ATTACH;FMTTYPE=image/jpeg:https://sarvha.org/wp-content/uploads/2019/11/biharipur19FI2A.jpg
END:VEVENT
BEGIN:VEVENT
DTSTART;VALUE=DATE:20191031
DTEND;VALUE=DATE:20191101
DTSTAMP:20260423T035436
CREATED:20210104T052445Z
LAST-MODIFIED:20210104T052445Z
UID:3166-1572480000-1572566399@sarvha.org
SUMMARY:Free Health Check Up Camp - Sector 78\, Noida
DESCRIPTION:
URL:https://sarvha.org/calendar/free-health-check-up-camp-sector-78-noida/
CATEGORIES:Healthcare
ATTACH;FMTTYPE=image/jpeg:https://sarvha.org/wp-content/uploads/2019/11/GolfView1FI2.jpg
END:VEVENT
BEGIN:VEVENT
DTSTART;VALUE=DATE:20191009
DTEND;VALUE=DATE:20191010
DTSTAMP:20260423T035436
CREATED:20210104T052056Z
LAST-MODIFIED:20210104T052056Z
UID:3163-1570579200-1570665599@sarvha.org
SUMMARY:Free Health Check Up Camp - Man Singh Road
DESCRIPTION:
URL:https://sarvha.org/calendar/free-health-check-up-camp-man-singh-road-2/
CATEGORIES:Healthcare
ATTACH;FMTTYPE=image/jpeg:https://sarvha.org/wp-content/uploads/2019/10/IMG_20191009_111909.jpg
END:VEVENT
BEGIN:VEVENT
DTSTART;TZID=Asia/Kolkata:20191001T080000
DTEND;TZID=Asia/Kolkata:20191001T170000
DTSTAMP:20260423T035436
CREATED:20210104T092519Z
LAST-MODIFIED:20210104T092519Z
UID:3244-1569916800-1569949200@sarvha.org
SUMMARY:Blanket Distribution - Wazirabad
DESCRIPTION:
URL:https://sarvha.org/calendar/blanket-distribution-wazirabad/
CATEGORIES:Welfare
ATTACH;FMTTYPE=image/jpeg:https://sarvha.org/wp-content/uploads/2021/01/Blanket_wazirabad.jpg
END:VEVENT
BEGIN:VEVENT
DTSTART;VALUE=DATE:20191001
DTEND;VALUE=DATE:20191002
DTSTAMP:20260423T035436
CREATED:20210104T051756Z
LAST-MODIFIED:20210104T051756Z
UID:3161-1569888000-1569974399@sarvha.org
SUMMARY:Free Health Check Up Camp - Wazirabad
DESCRIPTION:
URL:https://sarvha.org/calendar/free-health-check-up-camp-wazirabad-2/
CATEGORIES:Healthcare
ATTACH;FMTTYPE=image/jpeg:https://sarvha.org/wp-content/uploads/2019/10/wazirabad-health-camp.jpg
END:VEVENT
BEGIN:VEVENT
DTSTART;VALUE=DATE:20190921
DTEND;VALUE=DATE:20190922
DTSTAMP:20260423T035436
CREATED:20210103T220510Z
LAST-MODIFIED:20210103T220510Z
UID:3158-1569024000-1569110399@sarvha.org
SUMMARY:Free Health Check Up Camp - Dilli Gate
DESCRIPTION:
URL:https://sarvha.org/calendar/free-health-check-up-camp-dilli-gate/
CATEGORIES:Healthcare
ATTACH;FMTTYPE=image/jpeg:https://sarvha.org/wp-content/uploads/2019/09/DilliGateFI2.jpg
END:VEVENT
BEGIN:VEVENT
DTSTART;VALUE=DATE:20190918
DTEND;VALUE=DATE:20190919
DTSTAMP:20260423T035436
CREATED:20210103T220232Z
LAST-MODIFIED:20210103T220232Z
UID:3155-1568764800-1568851199@sarvha.org
SUMMARY:Free Health Check Up Camp - Talkotara Road
DESCRIPTION:
URL:https://sarvha.org/calendar/free-health-check-up-camp-talkotara-road/
CATEGORIES:Healthcare
ATTACH;FMTTYPE=image/jpeg:https://sarvha.org/wp-content/uploads/2019/09/RakabganjFI2.jpg
END:VEVENT
BEGIN:VEVENT
DTSTART;VALUE=DATE:20190911
DTEND;VALUE=DATE:20190912
DTSTAMP:20260423T035436
CREATED:20210103T215833Z
LAST-MODIFIED:20210103T215833Z
UID:3152-1568160000-1568246399@sarvha.org
SUMMARY:Free Health Check Up Camp - Mohhamadpur
DESCRIPTION:
URL:https://sarvha.org/calendar/free-health-check-up-camp-mohhamadpur/
CATEGORIES:Healthcare
ATTACH;FMTTYPE=image/jpeg:https://sarvha.org/wp-content/uploads/2019/09/Mohhamadpur-FI2.jpg
END:VEVENT
BEGIN:VEVENT
DTSTART;VALUE=DATE:20190830
DTEND;VALUE=DATE:20190831
DTSTAMP:20260423T035436
CREATED:20210103T215444Z
LAST-MODIFIED:20210103T215444Z
UID:3150-1567123200-1567209599@sarvha.org
SUMMARY:Free Health Check Up Camp - Lodhi Colony
DESCRIPTION:
URL:https://sarvha.org/calendar/free-health-check-up-camp-lodhi-colony-3/
CATEGORIES:Healthcare
ATTACH;FMTTYPE=image/jpeg:https://sarvha.org/wp-content/uploads/2019/09/LodhiColonyFI2.jpg
END:VEVENT
BEGIN:VEVENT
DTSTART;VALUE=DATE:20190828
DTEND;VALUE=DATE:20190829
DTSTAMP:20260423T035436
CREATED:20210103T215212Z
LAST-MODIFIED:20210103T215212Z
UID:3146-1566950400-1567036799@sarvha.org
SUMMARY:Free Health Check Up Camp - Burari
DESCRIPTION:
URL:https://sarvha.org/calendar/free-health-check-up-camp-burari/
CATEGORIES:Healthcare
ATTACH;FMTTYPE=image/jpeg:https://sarvha.org/wp-content/uploads/2021/01/burari.jpg
END:VEVENT
BEGIN:VEVENT
DTSTART;VALUE=DATE:20190821
DTEND;VALUE=DATE:20190822
DTSTAMP:20260423T035436
CREATED:20210103T214109Z
LAST-MODIFIED:20210103T214109Z
UID:3144-1566345600-1566431999@sarvha.org
SUMMARY:Free Health Check Up Camp - Greater Noida
DESCRIPTION:
URL:https://sarvha.org/calendar/free-health-check-up-camp-greater-noida/
CATEGORIES:Healthcare
ATTACH;FMTTYPE=image/jpeg:https://sarvha.org/wp-content/uploads/2019/08/Greater-Noida-19.jpg
END:VEVENT
BEGIN:VEVENT
DTSTART;VALUE=DATE:20190809
DTEND;VALUE=DATE:20190810
DTSTAMP:20260423T035436
CREATED:20210103T213654Z
LAST-MODIFIED:20210103T213654Z
UID:3141-1565308800-1565395199@sarvha.org
SUMMARY:Free Health Check Up Camp - Ganesh Nagar
DESCRIPTION:
URL:https://sarvha.org/calendar/free-health-check-up-camp-ganesh-nagar/
CATEGORIES:Healthcare
ATTACH;FMTTYPE=image/jpeg:https://sarvha.org/wp-content/uploads/2019/08/Shakerpur-FI.jpg
END:VEVENT
BEGIN:VEVENT
DTSTART;VALUE=DATE:20190731
DTEND;VALUE=DATE:20190801
DTSTAMP:20260423T035436
CREATED:20210103T213412Z
LAST-MODIFIED:20210103T213412Z
UID:3139-1564531200-1564617599@sarvha.org
SUMMARY:Free Health Check Up Camp - Sector 150
DESCRIPTION:
URL:https://sarvha.org/calendar/free-health-check-up-camp-sector-150/
CATEGORIES:Healthcare
ATTACH;FMTTYPE=image/jpeg:https://sarvha.org/wp-content/uploads/2019/08/Noida150-19.jpg
END:VEVENT
BEGIN:VEVENT
DTSTART;VALUE=DATE:20190727
DTEND;VALUE=DATE:20190728
DTSTAMP:20260423T035436
CREATED:20210104T080500Z
LAST-MODIFIED:20210104T080500Z
UID:3234-1564185600-1564271999@sarvha.org
SUMMARY:Tree Plantation Drive - Yamuna Bank\, Delhi
DESCRIPTION:
URL:https://sarvha.org/calendar/tree-plantation-drive-yamuna-bank-delhi-2/
CATEGORIES:Environment,Welfare
ATTACH;FMTTYPE=image/jpeg:https://sarvha.org/wp-content/uploads/2019/08/Tree-Plantations-5.jpg
END:VEVENT
BEGIN:VEVENT
DTSTART;VALUE=DATE:20190724
DTEND;VALUE=DATE:20190725
DTSTAMP:20260423T035436
CREATED:20210104T072026Z
LAST-MODIFIED:20210104T072026Z
UID:3230-1563926400-1564012799@sarvha.org
SUMMARY:Tree Plantation Drive - Kashmiri Gate\, Delhi
DESCRIPTION:
URL:https://sarvha.org/calendar/tree-plantation-drive-kashmiri-gate-delhi/
CATEGORIES:Environment,Welfare
ATTACH;FMTTYPE=image/jpeg:https://sarvha.org/wp-content/uploads/2019/08/Tree-Plantations-4.jpg
END:VEVENT
BEGIN:VEVENT
DTSTART;TZID=Asia/Kolkata:20190718T080000
DTEND;TZID=Asia/Kolkata:20190720T170000
DTSTAMP:20260423T035436
CREATED:20210104T071639Z
LAST-MODIFIED:20210104T071639Z
UID:3228-1563436800-1563642000@sarvha.org
SUMMARY:Tree Plantation Drive - Yamuna Bank\, Kashmiri Gate\, Delhi
DESCRIPTION:
URL:https://sarvha.org/calendar/tree-plantation-drive-yamuna-bank-kashmiri-gate-delhi-2/
CATEGORIES:Environment,Welfare
ATTACH;FMTTYPE=image/jpeg:https://sarvha.org/wp-content/uploads/2019/08/Tree-Plantations-2.jpg
END:VEVENT
END:VCALENDAR