BEGIN:VCALENDAR
VERSION:2.0
PRODID:-//Sarvha Foundation - ECPv6.15.12.2//NONSGML v1.0//EN
CALSCALE:GREGORIAN
METHOD:PUBLISH
X-WR-CALNAME:Sarvha Foundation
X-ORIGINAL-URL:https://sarvha.org
X-WR-CALDESC:Events for Sarvha Foundation
REFRESH-INTERVAL;VALUE=DURATION:PT1H
X-Robots-Tag:noindex
X-PUBLISHED-TTL:PT1H
BEGIN:VTIMEZONE
TZID:Asia/Kolkata
BEGIN:STANDARD
TZOFFSETFROM:+0530
TZOFFSETTO:+0530
TZNAME:IST
DTSTART:20160101T000000
END:STANDARD
END:VTIMEZONE
BEGIN:VEVENT
DTSTART;VALUE=DATE:20181129
DTEND;VALUE=DATE:20181130
DTSTAMP:20260423T104757
CREATED:20210103T203644Z
LAST-MODIFIED:20210103T203644Z
UID:3093-1543449600-1543535999@sarvha.org
SUMMARY:Free Health Check Up Camp - Sector 1\, Greater Noida
DESCRIPTION:
URL:https://sarvha.org/calendar/free-health-check-up-camp-sector-1-greater-noida/
CATEGORIES:Healthcare
ATTACH;FMTTYPE=image/jpeg:https://sarvha.org/wp-content/uploads/2018/12/greater-noida.jpg
END:VEVENT
BEGIN:VEVENT
DTSTART;VALUE=DATE:20181114
DTEND;VALUE=DATE:20181115
DTSTAMP:20260423T104757
CREATED:20210103T202454Z
LAST-MODIFIED:20210103T202454Z
UID:3090-1542153600-1542239999@sarvha.org
SUMMARY:Free Health Check Up Camp - Darya Ganj
DESCRIPTION:
URL:https://sarvha.org/calendar/free-health-check-up-camp-darya-ganj-2/
CATEGORIES:Healthcare
ATTACH;FMTTYPE=image/jpeg:https://sarvha.org/wp-content/uploads/2018/12/jain-school-dariyaganj.jpg
END:VEVENT
BEGIN:VEVENT
DTSTART;VALUE=DATE:20181029
DTEND;VALUE=DATE:20181030
DTSTAMP:20260423T104757
CREATED:20210103T202150Z
LAST-MODIFIED:20210103T202150Z
UID:3087-1540771200-1540857599@sarvha.org
SUMMARY:Free Health Check Up Camp - Tilak Lane
DESCRIPTION:
URL:https://sarvha.org/calendar/free-health-check-up-camp-tilak-lane/
CATEGORIES:Healthcare
ATTACH;FMTTYPE=image/jpeg:https://sarvha.org/wp-content/uploads/2018/12/tilak-lane.jpg
END:VEVENT
BEGIN:VEVENT
DTSTART;VALUE=DATE:20181020
DTEND;VALUE=DATE:20181021
DTSTAMP:20260423T104757
CREATED:20210103T201918Z
LAST-MODIFIED:20210103T201918Z
UID:3085-1539993600-1540079999@sarvha.org
SUMMARY:Free Health Check Up Camp - Purana Qila Road
DESCRIPTION:
URL:https://sarvha.org/calendar/free-health-check-up-camp-purana-qila-road-4/
CATEGORIES:Healthcare
ATTACH;FMTTYPE=image/jpeg:https://sarvha.org/wp-content/uploads/2018/12/purana-qila-october-18.jpg
END:VEVENT
BEGIN:VEVENT
DTSTART;VALUE=DATE:20181009
DTEND;VALUE=DATE:20181010
DTSTAMP:20260423T104757
CREATED:20210103T201511Z
LAST-MODIFIED:20210103T201511Z
UID:3083-1539043200-1539129599@sarvha.org
SUMMARY:Motivational Speech Program - Gharaunda
DESCRIPTION:
URL:https://sarvha.org/calendar/motivational-speech-program-gharaunda-2/
CATEGORIES:Motivational
ATTACH;FMTTYPE=image/jpeg:https://sarvha.org/wp-content/uploads/2018/12/Gharonda.jpg
END:VEVENT
BEGIN:VEVENT
DTSTART;VALUE=DATE:20181001
DTEND;VALUE=DATE:20181002
DTSTAMP:20260423T104757
CREATED:20210103T201030Z
LAST-MODIFIED:20210103T201030Z
UID:3081-1538352000-1538438399@sarvha.org
SUMMARY:World Senior Citizen Day celebration - Wazirabad
DESCRIPTION:
URL:https://sarvha.org/calendar/world-senior-citizen-day-celebration-wazirabad/
CATEGORIES:Welfare
ATTACH;FMTTYPE=image/jpeg:https://sarvha.org/wp-content/uploads/2018/12/senior-citizen-day.jpg
END:VEVENT
BEGIN:VEVENT
DTSTART;VALUE=DATE:20180917
DTEND;VALUE=DATE:20180918
DTSTAMP:20260423T104757
CREATED:20210103T200743Z
LAST-MODIFIED:20210103T200743Z
UID:3078-1537142400-1537228799@sarvha.org
SUMMARY:Free Health Check Up Camp - Dev Nagar
DESCRIPTION:
URL:https://sarvha.org/calendar/free-health-check-up-camp-dev-nagar/
CATEGORIES:Healthcare
ATTACH;FMTTYPE=image/jpeg:https://sarvha.org/wp-content/uploads/2018/12/dev-nagar.jpg
END:VEVENT
BEGIN:VEVENT
DTSTART;VALUE=DATE:20180908
DTEND;VALUE=DATE:20180909
DTSTAMP:20260423T104757
CREATED:20210103T200441Z
LAST-MODIFIED:20210103T200441Z
UID:3076-1536364800-1536451199@sarvha.org
SUMMARY:Free Health Check Up Camp - Race Course Road
DESCRIPTION:
URL:https://sarvha.org/calendar/free-health-check-up-camp-race-course-road-2/
CATEGORIES:Healthcare
ATTACH;FMTTYPE=image/jpeg:https://sarvha.org/wp-content/uploads/2018/12/race-course2nd-visit.jpg
END:VEVENT
BEGIN:VEVENT
DTSTART;VALUE=DATE:20180830
DTEND;VALUE=DATE:20180831
DTSTAMP:20260423T104757
CREATED:20210103T200206Z
LAST-MODIFIED:20210103T200206Z
UID:3073-1535587200-1535673599@sarvha.org
SUMMARY:Free Health Check Up Camp - Sewa Nagar
DESCRIPTION:
URL:https://sarvha.org/calendar/free-health-check-up-camp-sewa-nagar/
CATEGORIES:Healthcare
ATTACH;FMTTYPE=image/jpeg:https://sarvha.org/wp-content/uploads/2018/12/sewa-nagar.jpg
END:VEVENT
BEGIN:VEVENT
DTSTART;VALUE=DATE:20180814
DTEND;VALUE=DATE:20180815
DTSTAMP:20260423T104757
CREATED:20210103T195854Z
LAST-MODIFIED:20210103T195854Z
UID:3070-1534204800-1534291199@sarvha.org
SUMMARY:Free Health Check Up Camp - NSCI
DESCRIPTION:
URL:https://sarvha.org/calendar/free-health-check-up-camp-nsci/
CATEGORIES:Healthcare
ATTACH;FMTTYPE=image/jpeg:https://sarvha.org/wp-content/uploads/2018/12/nsci-premises.jpg
END:VEVENT
BEGIN:VEVENT
DTSTART;VALUE=DATE:20180725
DTEND;VALUE=DATE:20180726
DTSTAMP:20260423T104757
CREATED:20210103T195445Z
LAST-MODIFIED:20210103T195445Z
UID:3068-1532476800-1532563199@sarvha.org
SUMMARY:Free Health Check Up Camp - Sector 150\, Noida
DESCRIPTION:
URL:https://sarvha.org/calendar/free-health-check-up-camp-sector-150-noida-2/
CATEGORIES:Healthcare
ATTACH;FMTTYPE=image/jpeg:https://sarvha.org/wp-content/uploads/2018/12/noida-secor-150-third.jpg
END:VEVENT
BEGIN:VEVENT
DTSTART;VALUE=DATE:20180718
DTEND;VALUE=DATE:20180719
DTSTAMP:20260423T104757
CREATED:20210103T195234Z
LAST-MODIFIED:20210103T195234Z
UID:3065-1531872000-1531958399@sarvha.org
SUMMARY:Free Health Check Up Camp - Sector - 63\, Noida
DESCRIPTION:
URL:https://sarvha.org/calendar/free-health-check-up-camp-sector-63-noida/
CATEGORIES:Healthcare
ATTACH;FMTTYPE=image/jpeg:https://sarvha.org/wp-content/uploads/2018/12/noida-sec-63.jpg
END:VEVENT
BEGIN:VEVENT
DTSTART;VALUE=DATE:20180630
DTEND;VALUE=DATE:20180701
DTSTAMP:20260423T104757
CREATED:20210103T194857Z
LAST-MODIFIED:20210103T194857Z
UID:3062-1530316800-1530403199@sarvha.org
SUMMARY:Free Health Check Up Camp - Pandara Road
DESCRIPTION:
URL:https://sarvha.org/calendar/free-health-check-up-camp-pandara-road/
CATEGORIES:Healthcare
ATTACH;FMTTYPE=image/jpeg:https://sarvha.org/wp-content/uploads/2018/12/pandara-road.jpg
END:VEVENT
BEGIN:VEVENT
DTSTART;VALUE=DATE:20180605
DTEND;VALUE=DATE:20180606
DTSTAMP:20260423T104757
CREATED:20210103T194510Z
LAST-MODIFIED:20210103T194510Z
UID:3059-1528156800-1528243199@sarvha.org
SUMMARY:Free Health Check Up Camp - Purana Qila Road
DESCRIPTION:
URL:https://sarvha.org/calendar/free-health-check-up-camp-purana-qila-road-3/
CATEGORIES:Healthcare
ATTACH;FMTTYPE=image/jpeg:https://sarvha.org/wp-content/uploads/2018/12/puraniqilaroad1.jpg
END:VEVENT
BEGIN:VEVENT
DTSTART;VALUE=DATE:20180529
DTEND;VALUE=DATE:20180530
DTSTAMP:20260423T104757
CREATED:20210103T193814Z
LAST-MODIFIED:20210103T193814Z
UID:3056-1527552000-1527638399@sarvha.org
SUMMARY:Free Health Check Up Camp - Princess Park Market
DESCRIPTION:
URL:https://sarvha.org/calendar/free-health-check-up-camp-princess-park-market/
CATEGORIES:Healthcare
ATTACH;FMTTYPE=image/jpeg:https://sarvha.org/wp-content/uploads/2018/12/princesspark.jpg
END:VEVENT
BEGIN:VEVENT
DTSTART;VALUE=DATE:20180523
DTEND;VALUE=DATE:20180524
DTSTAMP:20260423T104757
CREATED:20210103T193454Z
LAST-MODIFIED:20210103T193454Z
UID:3053-1527033600-1527119999@sarvha.org
SUMMARY:Free Health Check Up Camp - Vinod Nagar (West)
DESCRIPTION:
URL:https://sarvha.org/calendar/free-health-check-up-camp-vinod-nagar-west/
CATEGORIES:Healthcare
ATTACH;FMTTYPE=image/jpeg:https://sarvha.org/wp-content/uploads/2018/12/vinodnagar.jpg
END:VEVENT
BEGIN:VEVENT
DTSTART;VALUE=DATE:20180505
DTEND;VALUE=DATE:20180506
DTSTAMP:20260423T104757
CREATED:20210102T114412Z
LAST-MODIFIED:20210102T114412Z
UID:3050-1525478400-1525564799@sarvha.org
SUMMARY:Motivational Speech Program - Gharaunda
DESCRIPTION:
URL:https://sarvha.org/calendar/motivational-speech-program-gharaunda/
CATEGORIES:Motivational,Skill Development
ATTACH;FMTTYPE=image/jpeg:https://sarvha.org/wp-content/uploads/2018/12/gharonda-1st-visit.jpg
END:VEVENT
BEGIN:VEVENT
DTSTART;VALUE=DATE:20180423
DTEND;VALUE=DATE:20180424
DTSTAMP:20260423T104757
CREATED:20210102T113055Z
LAST-MODIFIED:20210102T113055Z
UID:3047-1524441600-1524527999@sarvha.org
SUMMARY:Free Health Check Up Camp - Man Singh Road
DESCRIPTION:
URL:https://sarvha.org/calendar/free-health-check-up-camp-man-singh-road/
CATEGORIES:Healthcare
ATTACH;FMTTYPE=image/jpeg:https://sarvha.org/wp-content/uploads/2018/12/darbhangahouse.jpg
END:VEVENT
BEGIN:VEVENT
DTSTART;VALUE=DATE:20180329
DTEND;VALUE=DATE:20180330
DTSTAMP:20260423T104757
CREATED:20210102T112355Z
LAST-MODIFIED:20210102T112355Z
UID:3041-1522281600-1522367999@sarvha.org
SUMMARY:Free Health Check Up Camp - Race Course Road
DESCRIPTION:
URL:https://sarvha.org/calendar/free-health-check-up-camp-race-course-road/
CATEGORIES:Healthcare
ATTACH;FMTTYPE=image/jpeg:https://sarvha.org/wp-content/uploads/2018/12/BR-CAmp.jpg
END:VEVENT
BEGIN:VEVENT
DTSTART;VALUE=DATE:20180313
DTEND;VALUE=DATE:20180314
DTSTAMP:20260423T104757
CREATED:20210102T111932Z
LAST-MODIFIED:20210102T111932Z
UID:3038-1520899200-1520985599@sarvha.org
SUMMARY:Free Health Check Up Camp - Mathura Road
DESCRIPTION:
URL:https://sarvha.org/calendar/free-health-check-up-camp-mathura-road/
CATEGORIES:Healthcare
ATTACH;FMTTYPE=image/jpeg:https://sarvha.org/wp-content/uploads/2018/12/matka-peer.jpg
END:VEVENT
BEGIN:VEVENT
DTSTART;VALUE=DATE:20180225
DTEND;VALUE=DATE:20180226
DTSTAMP:20260423T104757
CREATED:20210102T111511Z
LAST-MODIFIED:20210102T111511Z
UID:3035-1519516800-1519603199@sarvha.org
SUMMARY:Free Health Check Up Camp - Sangli Mess
DESCRIPTION:
URL:https://sarvha.org/calendar/free-health-check-up-camp-sangli-mess/
CATEGORIES:Healthcare
ATTACH;FMTTYPE=image/jpeg:https://sarvha.org/wp-content/uploads/2018/12/sanglimess.jpg
END:VEVENT
BEGIN:VEVENT
DTSTART;TZID=Asia/Kolkata:20180211T080000
DTEND;TZID=Asia/Kolkata:20180211T170000
DTSTAMP:20260423T104757
CREATED:20210102T111108Z
LAST-MODIFIED:20210102T111108Z
UID:3032-1518336000-1518368400@sarvha.org
SUMMARY:Free Health Check Up Camp - Purana Qila Road
DESCRIPTION:
URL:https://sarvha.org/calendar/free-health-check-up-camp-purana-qila-road-2/
CATEGORIES:Healthcare
ATTACH;FMTTYPE=image/jpeg:https://sarvha.org/wp-content/uploads/2018/12/nscistaffquarter.jpg
END:VEVENT
BEGIN:VEVENT
DTSTART;VALUE=DATE:20180121
DTEND;VALUE=DATE:20180122
DTSTAMP:20260423T104757
CREATED:20210102T105209Z
LAST-MODIFIED:20210102T105209Z
UID:3030-1516492800-1516579199@sarvha.org
SUMMARY:Free Health Check Up Camp - Keshav Puram
DESCRIPTION:
URL:https://sarvha.org/calendar/free-health-check-up-camp-keshav-puram-2/
CATEGORIES:Healthcare
ATTACH;FMTTYPE=image/jpeg:https://sarvha.org/wp-content/uploads/2018/12/keshavpuram2.jpg
END:VEVENT
BEGIN:VEVENT
DTSTART;VALUE=DATE:20180113
DTEND;VALUE=DATE:20180114
DTSTAMP:20260423T104757
CREATED:20210102T104929Z
LAST-MODIFIED:20210102T104929Z
UID:3028-1515801600-1515887999@sarvha.org
SUMMARY:Free Health Check Up Camp - Khajoori Khas
DESCRIPTION:
URL:https://sarvha.org/calendar/free-health-check-up-camp-khajoori-khas/
CATEGORIES:Healthcare
ATTACH;FMTTYPE=image/jpeg:https://sarvha.org/wp-content/uploads/2018/12/biharipur2.jpg
END:VEVENT
BEGIN:VEVENT
DTSTART;VALUE=DATE:20171227
DTEND;VALUE=DATE:20171228
DTSTAMP:20260423T104757
CREATED:20210102T104642Z
LAST-MODIFIED:20210102T104642Z
UID:3025-1514332800-1514419199@sarvha.org
SUMMARY:Free Health Check Up Camp - Tolstoy Marg
DESCRIPTION:
URL:https://sarvha.org/calendar/free-health-check-up-camp-tolstoy-marg/
CATEGORIES:Healthcare
ATTACH;FMTTYPE=image/jpeg:https://sarvha.org/wp-content/uploads/2018/12/prakash-deep.jpg
END:VEVENT
BEGIN:VEVENT
DTSTART;VALUE=DATE:20171210
DTEND;VALUE=DATE:20171211
DTSTAMP:20260423T104757
CREATED:20210102T101543Z
LAST-MODIFIED:20210102T101543Z
UID:3022-1512864000-1512950399@sarvha.org
SUMMARY:Free Health Check Up Camp - Keshav Puram
DESCRIPTION:
URL:https://sarvha.org/calendar/free-health-check-up-camp-keshav-puram/
CATEGORIES:Healthcare
ATTACH;FMTTYPE=image/jpeg:https://sarvha.org/wp-content/uploads/2018/12/keshavpuram1st-visit.jpg
END:VEVENT
BEGIN:VEVENT
DTSTART;VALUE=DATE:20171118
DTEND;VALUE=DATE:20171119
DTSTAMP:20260423T104757
CREATED:20210102T093626Z
LAST-MODIFIED:20210102T093626Z
UID:3019-1510963200-1511049599@sarvha.org
SUMMARY:Free Health Check Up Camp - Vasant Vihar
DESCRIPTION:
URL:https://sarvha.org/calendar/free-health-check-up-camp-vasant-vihar/
CATEGORIES:Healthcare
ATTACH;FMTTYPE=image/jpeg:https://sarvha.org/wp-content/uploads/2018/12/vasant-vihar.jpg
END:VEVENT
BEGIN:VEVENT
DTSTART;VALUE=DATE:20171112
DTEND;VALUE=DATE:20171113
DTSTAMP:20260423T104757
CREATED:20210102T093240Z
LAST-MODIFIED:20210102T093240Z
UID:3016-1510444800-1510531199@sarvha.org
SUMMARY:Free Health Check Up Camp - Darya Ganj
DESCRIPTION:
URL:https://sarvha.org/calendar/free-health-check-up-camp-darya-ganj/
CATEGORIES:Healthcare
ATTACH;FMTTYPE=image/jpeg:https://sarvha.org/wp-content/uploads/2018/12/dariyaganj.jpg
END:VEVENT
BEGIN:VEVENT
DTSTART;TZID=Asia/Kolkata:20171029T080000
DTEND;TZID=Asia/Kolkata:20171029T170000
DTSTAMP:20260423T104757
CREATED:20210102T092754Z
LAST-MODIFIED:20210102T092754Z
UID:3013-1509264000-1509296400@sarvha.org
SUMMARY:Free Health Check Up Camp - Kahjoori Khas
DESCRIPTION:
URL:https://sarvha.org/calendar/free-health-check-up-camp-kahjoori-khas/
CATEGORIES:Healthcare
ATTACH;FMTTYPE=image/jpeg:https://sarvha.org/wp-content/uploads/2018/12/Biharipur-1st-visit.jpg
END:VEVENT
BEGIN:VEVENT
DTSTART;VALUE=DATE:20171016
DTEND;VALUE=DATE:20171017
DTSTAMP:20260423T104757
CREATED:20210102T092342Z
LAST-MODIFIED:20210102T092342Z
UID:3010-1508112000-1508198399@sarvha.org
SUMMARY:Free Health Check Up Camp - Indirapuram
DESCRIPTION:
URL:https://sarvha.org/calendar/free-health-check-up-camp-indirapuram/
CATEGORIES:Healthcare
ATTACH;FMTTYPE=image/jpeg:https://sarvha.org/wp-content/uploads/2019/04/get-involved-banner.jpg
END:VEVENT
END:VCALENDAR