BEGIN:VCALENDAR
VERSION:2.0
PRODID:-//Sarvha Foundation - ECPv6.15.12.2//NONSGML v1.0//EN
CALSCALE:GREGORIAN
METHOD:PUBLISH
X-WR-CALNAME:Sarvha Foundation
X-ORIGINAL-URL:https://sarvha.org
X-WR-CALDESC:Events for Sarvha Foundation
REFRESH-INTERVAL;VALUE=DURATION:PT1H
X-Robots-Tag:noindex
X-PUBLISHED-TTL:PT1H
BEGIN:VTIMEZONE
TZID:Asia/Kolkata
BEGIN:STANDARD
TZOFFSETFROM:+0530
TZOFFSETTO:+0530
TZNAME:IST
DTSTART:20160101T000000
END:STANDARD
END:VTIMEZONE
BEGIN:VEVENT
DTSTART;VALUE=DATE:20171227
DTEND;VALUE=DATE:20171228
DTSTAMP:20260423T140646
CREATED:20210102T104642Z
LAST-MODIFIED:20210102T104642Z
UID:3025-1514332800-1514419199@sarvha.org
SUMMARY:Free Health Check Up Camp - Tolstoy Marg
DESCRIPTION:
URL:https://sarvha.org/calendar/free-health-check-up-camp-tolstoy-marg/
CATEGORIES:Healthcare
ATTACH;FMTTYPE=image/jpeg:https://sarvha.org/wp-content/uploads/2018/12/prakash-deep.jpg
END:VEVENT
BEGIN:VEVENT
DTSTART;VALUE=DATE:20171210
DTEND;VALUE=DATE:20171211
DTSTAMP:20260423T140646
CREATED:20210102T101543Z
LAST-MODIFIED:20210102T101543Z
UID:3022-1512864000-1512950399@sarvha.org
SUMMARY:Free Health Check Up Camp - Keshav Puram
DESCRIPTION:
URL:https://sarvha.org/calendar/free-health-check-up-camp-keshav-puram/
CATEGORIES:Healthcare
ATTACH;FMTTYPE=image/jpeg:https://sarvha.org/wp-content/uploads/2018/12/keshavpuram1st-visit.jpg
END:VEVENT
BEGIN:VEVENT
DTSTART;VALUE=DATE:20171118
DTEND;VALUE=DATE:20171119
DTSTAMP:20260423T140646
CREATED:20210102T093626Z
LAST-MODIFIED:20210102T093626Z
UID:3019-1510963200-1511049599@sarvha.org
SUMMARY:Free Health Check Up Camp - Vasant Vihar
DESCRIPTION:
URL:https://sarvha.org/calendar/free-health-check-up-camp-vasant-vihar/
CATEGORIES:Healthcare
ATTACH;FMTTYPE=image/jpeg:https://sarvha.org/wp-content/uploads/2018/12/vasant-vihar.jpg
END:VEVENT
BEGIN:VEVENT
DTSTART;VALUE=DATE:20171112
DTEND;VALUE=DATE:20171113
DTSTAMP:20260423T140646
CREATED:20210102T093240Z
LAST-MODIFIED:20210102T093240Z
UID:3016-1510444800-1510531199@sarvha.org
SUMMARY:Free Health Check Up Camp - Darya Ganj
DESCRIPTION:
URL:https://sarvha.org/calendar/free-health-check-up-camp-darya-ganj/
CATEGORIES:Healthcare
ATTACH;FMTTYPE=image/jpeg:https://sarvha.org/wp-content/uploads/2018/12/dariyaganj.jpg
END:VEVENT
BEGIN:VEVENT
DTSTART;TZID=Asia/Kolkata:20171029T080000
DTEND;TZID=Asia/Kolkata:20171029T170000
DTSTAMP:20260423T140646
CREATED:20210102T092754Z
LAST-MODIFIED:20210102T092754Z
UID:3013-1509264000-1509296400@sarvha.org
SUMMARY:Free Health Check Up Camp - Kahjoori Khas
DESCRIPTION:
URL:https://sarvha.org/calendar/free-health-check-up-camp-kahjoori-khas/
CATEGORIES:Healthcare
ATTACH;FMTTYPE=image/jpeg:https://sarvha.org/wp-content/uploads/2018/12/Biharipur-1st-visit.jpg
END:VEVENT
BEGIN:VEVENT
DTSTART;VALUE=DATE:20171016
DTEND;VALUE=DATE:20171017
DTSTAMP:20260423T140646
CREATED:20210102T092342Z
LAST-MODIFIED:20210102T092342Z
UID:3010-1508112000-1508198399@sarvha.org
SUMMARY:Free Health Check Up Camp - Indirapuram
DESCRIPTION:
URL:https://sarvha.org/calendar/free-health-check-up-camp-indirapuram/
CATEGORIES:Healthcare
ATTACH;FMTTYPE=image/jpeg:https://sarvha.org/wp-content/uploads/2019/04/get-involved-banner.jpg
END:VEVENT
BEGIN:VEVENT
DTSTART;VALUE=DATE:20170911
DTEND;VALUE=DATE:20170912
DTSTAMP:20260423T140646
CREATED:20210102T091936Z
LAST-MODIFIED:20210102T091936Z
UID:3006-1505088000-1505174399@sarvha.org
SUMMARY:Free Health Check Up Camp - Wazirabad
DESCRIPTION:
URL:https://sarvha.org/calendar/free-health-check-up-camp-wazirabad/
CATEGORIES:Healthcare
ATTACH;FMTTYPE=image/jpeg:https://sarvha.org/wp-content/uploads/2021/01/Wazirabad_health_2.jpg
END:VEVENT
BEGIN:VEVENT
DTSTART;VALUE=DATE:20170903
DTEND;VALUE=DATE:20170904
DTSTAMP:20260423T140646
CREATED:20170903T090856Z
LAST-MODIFIED:20170903T090856Z
UID:3002-1504396800-1504483199@sarvha.org
SUMMARY:Free Health Check Up Camp - Noida
DESCRIPTION:
URL:https://sarvha.org/calendar/free-health-check-up-camp-noida/
CATEGORIES:Healthcare
ATTACH;FMTTYPE=image/jpeg:https://sarvha.org/wp-content/uploads/2018/12/Antriksh-2nd-visit.jpg
END:VEVENT
BEGIN:VEVENT
DTSTART;VALUE=DATE:20170829
DTEND;VALUE=DATE:20170830
DTSTAMP:20260423T140646
CREATED:20210102T090321Z
LAST-MODIFIED:20210102T090321Z
UID:2999-1503964800-1504051199@sarvha.org
SUMMARY:Free Health Check Up Camp - Lodhi Colony
DESCRIPTION:
URL:https://sarvha.org/calendar/free-health-check-up-camp-lodhi-colony-2/
CATEGORIES:Healthcare
ATTACH;FMTTYPE=image/jpeg:https://sarvha.org/wp-content/uploads/2018/12/indira-gandhi-camp.jpg
END:VEVENT
BEGIN:VEVENT
DTSTART;VALUE=DATE:20170813
DTEND;VALUE=DATE:20170814
DTSTAMP:20260423T140646
CREATED:20210102T085628Z
LAST-MODIFIED:20210102T085628Z
UID:2996-1502582400-1502668799@sarvha.org
SUMMARY:Free Health Check Up Camp - Sector 150\, NOIDA
DESCRIPTION:
URL:https://sarvha.org/calendar/free-health-check-up-camp-sector-150-noida/
CATEGORIES:Healthcare
ATTACH;FMTTYPE=image/jpeg:https://sarvha.org/wp-content/uploads/2018/12/noida-sector150.jpg
END:VEVENT
BEGIN:VEVENT
DTSTART;VALUE=DATE:20170720
DTEND;VALUE=DATE:20170721
DTSTAMP:20260423T140646
CREATED:20210102T082842Z
LAST-MODIFIED:20210102T082842Z
UID:2992-1500508800-1500595199@sarvha.org
SUMMARY:Free Health Check Up Camp - Lodhi Colony
DESCRIPTION:
URL:https://sarvha.org/calendar/free-health-check-up-camp-lodhi-colony/
CATEGORIES:Healthcare
ATTACH;FMTTYPE=image/jpeg:https://sarvha.org/wp-content/uploads/2021/01/Lodhi_20_7_17.jpg
END:VEVENT
BEGIN:VEVENT
DTSTART;VALUE=DATE:20170709
DTEND;VALUE=DATE:20170710
DTSTAMP:20260423T140646
CREATED:20210102T075308Z
LAST-MODIFIED:20210102T075308Z
UID:2988-1499558400-1499644799@sarvha.org
SUMMARY:Free Health Check Up Camp - Lajpat Nagar - II
DESCRIPTION:
URL:https://sarvha.org/calendar/free-health-check-up-camp-lajpat-nagar-ii-2/
CATEGORIES:Healthcare
ATTACH;FMTTYPE=image/jpeg:https://sarvha.org/wp-content/uploads/2018/12/Lajpat-Arya-Samaj.jpg
END:VEVENT
BEGIN:VEVENT
DTSTART;VALUE=DATE:20170620
DTEND;VALUE=DATE:20170621
DTSTAMP:20260423T140646
CREATED:20210102T075010Z
LAST-MODIFIED:20210102T075010Z
UID:2985-1497916800-1498003199@sarvha.org
SUMMARY:Free Health Check Up Camp - Lajpat Nagar -I
DESCRIPTION:
URL:https://sarvha.org/calendar/free-health-check-up-camp-lajpat-nagar-i/
CATEGORIES:Healthcare
ATTACH;FMTTYPE=image/jpeg:https://sarvha.org/wp-content/uploads/2018/12/krishna-market.jpg
END:VEVENT
BEGIN:VEVENT
DTSTART;VALUE=DATE:20170608
DTEND;VALUE=DATE:20170609
DTSTAMP:20260423T140646
CREATED:20210102T074608Z
LAST-MODIFIED:20210102T074608Z
UID:2982-1496880000-1496966399@sarvha.org
SUMMARY:Free Health Check Up Camp - Sunlight Colony
DESCRIPTION:
URL:https://sarvha.org/calendar/free-health-check-up-camp-sunlight-colony/
CATEGORIES:Healthcare
ATTACH;FMTTYPE=image/jpeg:https://sarvha.org/wp-content/uploads/2018/12/Bhagwan-Nagar.jpg
END:VEVENT
BEGIN:VEVENT
DTSTART;VALUE=DATE:20170507
DTEND;VALUE=DATE:20170508
DTSTAMP:20260423T140646
CREATED:20210102T074230Z
LAST-MODIFIED:20210102T074230Z
UID:2979-1494115200-1494201599@sarvha.org
SUMMARY:Free Health Check Up Camp - Purana Qila Road
DESCRIPTION:
URL:https://sarvha.org/calendar/free-health-check-up-camp-purana-qila-road/
CATEGORIES:Healthcare
ATTACH;FMTTYPE=image/jpeg:https://sarvha.org/wp-content/uploads/2018/12/NSCI-1st.jpg
END:VEVENT
BEGIN:VEVENT
DTSTART;VALUE=DATE:20170308
DTEND;VALUE=DATE:20170309
DTSTAMP:20260423T140646
CREATED:20210102T071932Z
LAST-MODIFIED:20210102T071932Z
UID:2975-1488931200-1489017599@sarvha.org
SUMMARY:Free Health Check Up Camp -  Wazirabad Village
DESCRIPTION:
URL:https://sarvha.org/calendar/free-health-check-up-camp-wazirabad-village/
CATEGORIES:Healthcare
ATTACH;FMTTYPE=image/jpeg:https://sarvha.org/wp-content/uploads/2021/01/Wazirabad_17.jpg
END:VEVENT
BEGIN:VEVENT
DTSTART;VALUE=DATE:20170217
DTEND;VALUE=DATE:20170218
DTSTAMP:20260423T140646
CREATED:20210102T112750Z
LAST-MODIFIED:20210102T112750Z
UID:3044-1487289600-1487375999@sarvha.org
SUMMARY:Free Health Check Up Camp - Helly Road
DESCRIPTION:
URL:https://sarvha.org/calendar/free-health-check-up-camp-helly-road/
CATEGORIES:Healthcare
ATTACH;FMTTYPE=image/jpeg:https://sarvha.org/wp-content/uploads/2018/12/hellyroad.jpg
END:VEVENT
BEGIN:VEVENT
DTSTART;VALUE=DATE:20170212
DTEND;VALUE=DATE:20170213
DTSTAMP:20260423T140646
CREATED:20210102T064548Z
LAST-MODIFIED:20210102T064548Z
UID:2972-1486857600-1486943999@sarvha.org
SUMMARY:Free Health Check Up Camp - Lajpat Nagar - II
DESCRIPTION:
URL:https://sarvha.org/calendar/free-health-check-up-camp-lajpat-nagar-ii/
CATEGORIES:Healthcare
ATTACH;FMTTYPE=image/jpeg:https://sarvha.org/wp-content/uploads/2021/01/Lajapat_health_1.jpg
END:VEVENT
BEGIN:VEVENT
DTSTART;VALUE=DATE:20170114
DTEND;VALUE=DATE:20170115
DTSTAMP:20260423T140646
CREATED:20210102T064056Z
LAST-MODIFIED:20210102T064056Z
UID:2970-1484352000-1484438399@sarvha.org
SUMMARY:Blanket Distribution - New Delhi
DESCRIPTION:
URL:https://sarvha.org/calendar/blanket-distribution-new-delhi/
CATEGORIES:Welfare
ATTACH;FMTTYPE=image/jpeg:https://sarvha.org/wp-content/uploads/2018/12/blanket3.jpg
END:VEVENT
BEGIN:VEVENT
DTSTART;VALUE=DATE:20170113
DTEND;VALUE=DATE:20170114
DTSTAMP:20260423T140646
CREATED:20210102T063524Z
LAST-MODIFIED:20210102T063524Z
UID:2967-1484265600-1484351999@sarvha.org
SUMMARY:Free Health Check Up Camp - Kotla Mubakpur
DESCRIPTION:
URL:https://sarvha.org/calendar/free-health-check-up-camp-kotla-mubakpur/
CATEGORIES:Healthcare
ATTACH;FMTTYPE=image/jpeg:https://sarvha.org/wp-content/uploads/2018/12/Kotla-Mubarakpur.jpg
END:VEVENT
END:VCALENDAR