BEGIN:VCALENDAR
VERSION:2.0
PRODID:-//Sarvha Foundation - ECPv6.15.12.2//NONSGML v1.0//EN
CALSCALE:GREGORIAN
METHOD:PUBLISH
X-WR-CALNAME:Sarvha Foundation
X-ORIGINAL-URL:https://sarvha.org
X-WR-CALDESC:Events for Sarvha Foundation
REFRESH-INTERVAL;VALUE=DURATION:PT1H
X-Robots-Tag:noindex
X-PUBLISHED-TTL:PT1H
BEGIN:VTIMEZONE
TZID:Asia/Kolkata
BEGIN:STANDARD
TZOFFSETFROM:+0530
TZOFFSETTO:+0530
TZNAME:IST
DTSTART:20230101T000000
END:STANDARD
END:VTIMEZONE
BEGIN:VTIMEZONE
TZID:America/Denver
BEGIN:DAYLIGHT
TZOFFSETFROM:-0700
TZOFFSETTO:-0600
TZNAME:MDT
DTSTART:20240310T090000
END:DAYLIGHT
BEGIN:STANDARD
TZOFFSETFROM:-0600
TZOFFSETTO:-0700
TZNAME:MST
DTSTART:20241103T080000
END:STANDARD
BEGIN:DAYLIGHT
TZOFFSETFROM:-0700
TZOFFSETTO:-0600
TZNAME:MDT
DTSTART:20250309T090000
END:DAYLIGHT
BEGIN:STANDARD
TZOFFSETFROM:-0600
TZOFFSETTO:-0700
TZNAME:MST
DTSTART:20251102T080000
END:STANDARD
BEGIN:DAYLIGHT
TZOFFSETFROM:-0700
TZOFFSETTO:-0600
TZNAME:MDT
DTSTART:20260308T090000
END:DAYLIGHT
BEGIN:STANDARD
TZOFFSETFROM:-0600
TZOFFSETTO:-0700
TZNAME:MST
DTSTART:20261101T080000
END:STANDARD
END:VTIMEZONE
BEGIN:VTIMEZONE
TZID:UTC
BEGIN:STANDARD
TZOFFSETFROM:+0000
TZOFFSETTO:+0000
TZNAME:UTC
DTSTART:20220101T000000
END:STANDARD
END:VTIMEZONE
BEGIN:VEVENT
DTSTART;TZID=Asia/Kolkata:20250929T130000
DTEND;TZID=Asia/Kolkata:20250929T140000
DTSTAMP:20260422T132749
CREATED:20250929T091658Z
LAST-MODIFIED:20251022T092844Z
UID:7390-1759150800-1759154400@sarvha.org
SUMMARY:Special speech session on Navratri at Sir Ganga Ram Hospital
DESCRIPTION:Founder Acharya Anita presented an engaging speech for the Nursing staff and Doctors regarding the significance of the ongoing Navratri at Sir Gangaram Hospital.
URL:https://sarvha.org/calendar/special-speech-session-on-navratri-at-sir-ganga-ram-hospital/
LOCATION:Sir Ganga Ram Hospital\, Rajinder Nagar\, New Delhi\, Delhi\, 110060\, India
CATEGORIES:Event,Motivational
ATTACH;FMTTYPE=image/jpeg:https://sarvha.org/wp-content/uploads/2025/10/Navratri-Speech-at-SGRH.jpg
END:VEVENT
BEGIN:VEVENT
DTSTART;TZID=Asia/Kolkata:20250830T103000
DTEND;TZID=Asia/Kolkata:20250830T140000
DTSTAMP:20260422T132749
CREATED:20250830T105618Z
LAST-MODIFIED:20250901T055838Z
UID:7383-1756549800-1756562400@sarvha.org
SUMMARY:Health Check up camp for resident students of Gurukul\, Gautam Nagar
DESCRIPTION:The Sarvha Foundation held a complimentary health check-up camp for the resident students of Shreemad Dayanand Ved Vidyalaya Gurukul\, located in Gautam Nagar\, Green Park\, New Delhi.
URL:https://sarvha.org/calendar/health-check-up-camp-for-resident-students-of-gurukul-gautam-nagar/
LOCATION:Shreemad Dayanand Ved Vidyalaya Gurukul\, Gautam Nagar\, Green Park\, New Delhi\, Delhi\, 110049\, India
CATEGORIES:Healthcare
ATTACH;FMTTYPE=image/jpeg:https://sarvha.org/wp-content/uploads/2025/09/Gurukul_camp_02.jpg
END:VEVENT
BEGIN:VEVENT
DTSTART;TZID=Asia/Kolkata:20250808T150000
DTEND;TZID=Asia/Kolkata:20250808T160000
DTSTAMP:20260422T132749
CREATED:20250808T075720Z
LAST-MODIFIED:20250816T075740Z
UID:7376-1754665200-1754668800@sarvha.org
SUMMARY:Sarvha Foundation's Tree Plantation Drive 2025
DESCRIPTION:As in previous years\, the Sarvha Foundation has launched its annual tree plantation drive on August 8\, 2025\, along the Yamuna bank in Wazirabad village\, Delhi.
URL:https://sarvha.org/calendar/sarvha-foundations-tree-plantation-drive-2025/
LOCATION:Wazirabad Village\, Shiv Mandir\, Wazirabad Village\, Delhi\, Delhi\, 110084\, India
CATEGORIES:Environment,Event,Welfare
ATTACH;FMTTYPE=image/jpeg:https://sarvha.org/wp-content/uploads/2025/08/Tree_Plantation25_FI.jpg
END:VEVENT
BEGIN:VEVENT
DTSTART;TZID=Asia/Kolkata:20250725T153000
DTEND;TZID=Asia/Kolkata:20250725T163000
DTSTAMP:20260422T132749
CREATED:20250728T082620Z
LAST-MODIFIED:20250728T082620Z
UID:7349-1753457400-1753461000@sarvha.org
SUMMARY:Tree Plantation Drive
DESCRIPTION:Founder Trustee Acharya Anita had the honor of participating in a tree plantation initiative organized by a youth group in Wazirabd village\, which is part of the ongoing national tree plantation campaign “Ek Ped Maa Ke Naam”.
URL:https://sarvha.org/calendar/tree-plantation-drive/
LOCATION:Wazirabad Village\, Shiv Mandir\, Wazirabad Village\, Delhi\, Delhi\, 110084\, India
CATEGORIES:Environment
ATTACH;FMTTYPE=image/jpeg:https://sarvha.org/wp-content/uploads/2025/07/Tree_Plant_wazirabad_01.jpg
END:VEVENT
BEGIN:VEVENT
DTSTART;TZID=Asia/Kolkata:20250702T140000
DTEND;TZID=Asia/Kolkata:20250702T150000
DTSTAMP:20260422T132749
CREATED:20250702T105918Z
LAST-MODIFIED:20250728T105935Z
UID:7362-1751464800-1751468400@sarvha.org
SUMMARY:Wellness session at Sir Ganga Ram Hospital
DESCRIPTION:Trustee Acharya Anita held a wellness session at Sir Ganga Ram Hospital for the doctors and medical personnel.
URL:https://sarvha.org/calendar/wellness-session-at-sir-ganga-ram-hospital-2/
LOCATION:Sir Ganga Ram Hospital\, Rajinder Nagar\, New Delhi\, Delhi\, 110060\, India
CATEGORIES:Event,Meditation,Motivational
ATTACH;FMTTYPE=image/jpeg:https://sarvha.org/wp-content/uploads/2025/07/Welness_session_SGRH.jpg
END:VEVENT
BEGIN:VEVENT
DTSTART;TZID=Asia/Kolkata:20250621T093000
DTEND;TZID=Asia/Kolkata:20250621T100000
DTSTAMP:20260422T132749
CREATED:20250728T083039Z
LAST-MODIFIED:20250728T083039Z
UID:7352-1750498200-1750500000@sarvha.org
SUMMARY:International Yoga Day Celebration
DESCRIPTION:In celebration of International Yoga Day\, trustee Acharya Anita dedicated her morning to the visually impaired students at the Blind Institute in Lajpat Nagar\, New Delhi. She conducted a light yoga session\, practiced pranayama\, and discussed the importance of yoga
URL:https://sarvha.org/calendar/international-yoga-day-celebration/
LOCATION:Institute For The Blind\, Amar Colony\, Lajpat Nagar IV\, New Delhi\, Delhi\, 110024\, India
CATEGORIES:Meditation,Motivational
ATTACH;FMTTYPE=image/jpeg:https://sarvha.org/wp-content/uploads/2025/07/Blind_school_yoga_FI.jpg
END:VEVENT
BEGIN:VEVENT
DTSTART;TZID=Asia/Kolkata:20250613T170000
DTEND;TZID=Asia/Kolkata:20250613T173000
DTSTAMP:20260422T132749
CREATED:20250728T084003Z
LAST-MODIFIED:20250728T084003Z
UID:7354-1749834000-1749835800@sarvha.org
SUMMARY:Founder Trustee’s Meeting with with the Honorable Former President of India
DESCRIPTION:Trustee Acharya Anita had the honor of making a courtesy visit to former President of India\, Mr. Ram Nath Kovind ji\, at his residence\, where she presented him with a copy of her book ‘Sadhana Vigyan’. They engaged in discussions on various topics\, including India’s spiritual traditions and its rich cultural heritage.
URL:https://sarvha.org/calendar/founder-trustees-meeting-with-with-the-honorable-former-president-of-india/
LOCATION:12 Janpath\, New Delhi\, 12 Janpath\, New Delhi\, Delhi\, 110004\, India
CATEGORIES:Event,Motivational
ATTACH;FMTTYPE=image/jpeg:https://sarvha.org/wp-content/uploads/2025/07/Meeting_Ram_nath_Kovind_ji.jpg
END:VEVENT
BEGIN:VEVENT
DTSTART;TZID=America/Denver:20250524T080000
DTEND;TZID=America/Denver:20250524T090000
DTSTAMP:20260422T132749
CREATED:20250524T100336Z
LAST-MODIFIED:20250728T105512Z
UID:7357-1748073600-1748077200@sarvha.org
SUMMARY:Interaction on self awareness with the Indian community @ Seattle\, WA
DESCRIPTION:Acharya Anita interacted with a gathering of the Indian community\, sharing thoughtful conversations about self- awareness\, holistic well-being\, spirituality and cultural heritage and also leading a brief meditation session.
URL:https://sarvha.org/calendar/interaction-on-self-awareness-with-the-indian-community-seattle-wa/
LOCATION:Seattle\, Valley St. Terry Ave N\, Seattle\, Seattle\, WA\, 98109\, United States
CATEGORIES:Event,Meditation,Motivational
ATTACH;FMTTYPE=image/jpeg:https://sarvha.org/wp-content/uploads/2025/07/IMG_0163.jpg
END:VEVENT
BEGIN:VEVENT
DTSTART;TZID=Asia/Kolkata:20250329T110000
DTEND;TZID=Asia/Kolkata:20250329T133000
DTSTAMP:20260422T132749
CREATED:20250407T075131Z
LAST-MODIFIED:20250407T075131Z
UID:7316-1743246000-1743255000@sarvha.org
SUMMARY:Free Health Check Up Camp @ Prakash Deep
DESCRIPTION:A health check-up camp\, offered at no cost\, was arranged by the Sarvha Foundation\, at the Prakash Deep Building in New Delhi.
URL:https://sarvha.org/calendar/free-health-check-up-camp-prakash-deep/
LOCATION:Prakash Deep Building\, 07 Tolstoy Marg\, Connaught Place\, New Delhi\, Delhi\, 110001\, India
CATEGORIES:Healthcare,Welfare
ATTACH;FMTTYPE=image/jpeg:https://sarvha.org/wp-content/uploads/2025/04/Health-Camp-2.jpg
END:VEVENT
BEGIN:VEVENT
DTSTART;TZID=Asia/Kolkata:20250326T103000
DTEND;TZID=Asia/Kolkata:20250326T110000
DTSTAMP:20260422T132749
CREATED:20250407T075331Z
LAST-MODIFIED:20250407T075331Z
UID:7318-1742985000-1742986800@sarvha.org
SUMMARY:Electrical equipment and grocery items supplies
DESCRIPTION:Provided electrical equipment and grocery items to a school for the blind in New Delhi.
URL:https://sarvha.org/calendar/electrical-equipment-and-grocery-items-supplies/
LOCATION:Blind School\, Lajpat Nagar\, Lajpat Nagar\, New Delhi\, Delhi\, 110024\, India
CATEGORIES:Welfare
ATTACH;FMTTYPE=image/jpeg:https://sarvha.org/wp-content/uploads/2025/04/Blind_School_Donation_01.jpg
END:VEVENT
BEGIN:VEVENT
DTSTART;TZID=Asia/Kolkata:20250222T113000
DTEND;TZID=Asia/Kolkata:20250222T163000
DTSTAMP:20260422T132749
CREATED:20250407T074748Z
LAST-MODIFIED:20250407T074748Z
UID:7311-1740223800-1740241800@sarvha.org
SUMMARY:Wellness session at Vision India Services\, Noida
DESCRIPTION:A wellness session was led by trustee Acharya Anita for the employees of Global Vision India\, an HR consultancy organization in Noida.
URL:https://sarvha.org/calendar/wellness-session-at-vision-india-services-noida/
LOCATION:Vision India Services Pvt Ltd.\, Sector 67\, Noida\, Uttar Pradesh\, 201301
CATEGORIES:Meditation,Motivational
ATTACH;FMTTYPE=image/jpeg:https://sarvha.org/wp-content/uploads/2025/04/Global_Vision_2.jpg
END:VEVENT
BEGIN:VEVENT
DTSTART;TZID=Asia/Kolkata:20250221T143000
DTEND;TZID=Asia/Kolkata:20250221T160000
DTSTAMP:20260422T132749
CREATED:20250407T074113Z
LAST-MODIFIED:20250407T074113Z
UID:7307-1740148200-1740153600@sarvha.org
SUMMARY:Wellness session at Sir Ganga Ram Hospital
DESCRIPTION:A wellness session was facilitated by trustee Acharya Anita for the doctors and healthcare staff at Sir Ganga Ram Hospital\, located in New Delhi.
URL:https://sarvha.org/calendar/wellness-session-at-sir-ganga-ram-hospital/
LOCATION:Sir Ganga Ram Hospital\, Rajinder Nagar\, New Delhi\, Delhi\, 110060\, India
CATEGORIES:Meditation,Motivational
ATTACH;FMTTYPE=image/jpeg:https://sarvha.org/wp-content/uploads/2025/04/Gangaram_Event_01.jpg
END:VEVENT
BEGIN:VEVENT
DTSTART;TZID=Asia/Kolkata:20241228T130000
DTEND;TZID=Asia/Kolkata:20241228T133000
DTSTAMP:20260422T132749
CREATED:20241224T131428Z
LAST-MODIFIED:20241231T082111Z
UID:7279-1735390800-1735392600@sarvha.org
SUMMARY:Sweaters distribution at Prakashdeep Building
DESCRIPTION:Founder Trustee Acharya Anita presented sweaters to the maintenance personnel of the Prakash Deep building in New Delhi.
URL:https://sarvha.org/calendar/sweaters-distribution-at-prakashdeep-building/
LOCATION:Prakash Deep Building\, 07 Tolstoy Marg\, Connaught Place\, New Delhi\, Delhi\, 110001\, India
CATEGORIES:Welfare
ATTACH;FMTTYPE=image/jpeg:https://sarvha.org/wp-content/uploads/2024/12/Sweter_Distribution_Prakashdeep_01.jpg
END:VEVENT
BEGIN:VEVENT
DTSTART;TZID=Asia/Kolkata:20241224T140000
DTEND;TZID=Asia/Kolkata:20241224T143000
DTSTAMP:20260422T132749
CREATED:20241231T082048Z
LAST-MODIFIED:20241231T082048Z
UID:7281-1735048800-1735050600@sarvha.org
SUMMARY:Sweaters distribution at Prakashdeep Building
DESCRIPTION:Sarvha Foundation presented sweaters to the students of a Blind School\, Lajpat Nagar\, New Delhi
URL:https://sarvha.org/calendar/sweaters-distribution-at-prakashdeep-building-2/
LOCATION:Blind School\, Lajpat Nagar\, Lajpat Nagar\, New Delhi\, Delhi\, 110024\, India
CATEGORIES:Welfare
ATTACH;FMTTYPE=image/jpeg:https://sarvha.org/wp-content/uploads/2024/12/Blind_school_Sweater_giveaway_01.jpg
END:VEVENT
BEGIN:VEVENT
DTSTART;TZID=Asia/Kolkata:20241019T110000
DTEND;TZID=Asia/Kolkata:20241019T143000
DTSTAMP:20260422T132749
CREATED:20241021T080316Z
LAST-MODIFIED:20241021T082225Z
UID:7252-1729335600-1729348200@sarvha.org
SUMMARY:Health Check Up Camp @ Institute for Blind\, Delhi
DESCRIPTION:A health check-up camp was arranged by the Sarvha Foundation on October 19\, 2024\, as a humanitarian effort at the Institute for Blind\, Amar Colony\, Lajpat Nagar IV\, New Delhi – 110024. At the camp\, students of all ages participated and utilized the welfare amenities offered.
URL:https://sarvha.org/calendar/health-check-up-camp-blind-institute-delhi/
LOCATION:Institute For The Blind\, Amar Colony\, Lajpat Nagar IV\, New Delhi\, Delhi\, 110024\, India
CATEGORIES:Healthcare
ATTACH;FMTTYPE=image/jpeg:https://sarvha.org/wp-content/uploads/2024/10/Blind-School_fI_2.jpg
END:VEVENT
BEGIN:VEVENT
DTSTART;TZID=Asia/Kolkata:20240831T110000
DTEND;TZID=Asia/Kolkata:20240831T130000
DTSTAMP:20260422T132749
CREATED:20240831T114407Z
LAST-MODIFIED:20240831T114407Z
UID:7245-1725102000-1725109200@sarvha.org
SUMMARY:Health Check Up Camp
DESCRIPTION:A free health check-up camp was organized by the Sarvha Foundation\, in Wazirabad. Individuals of all ages attended the camp and made use of the provided welfare facilities.
URL:https://sarvha.org/calendar/health-check-up-camp/
LOCATION:Wazirabad Village\, Shiv Mandir\, Wazirabad Village\, Delhi\, Delhi\, 110084\, India
CATEGORIES:Healthcare
ATTACH;FMTTYPE=image/jpeg:https://sarvha.org/wp-content/uploads/2024/08/Wazirabad_Health_August24_02.jpg
END:VEVENT
BEGIN:VEVENT
DTSTART;TZID=Asia/Kolkata:20240830T110000
DTEND;TZID=Asia/Kolkata:20240830T120000
DTSTAMP:20260422T132749
CREATED:20240831T113855Z
LAST-MODIFIED:20240831T113855Z
UID:7241-1725015600-1725019200@sarvha.org
SUMMARY:Interactive session with sr. secondary students
DESCRIPTION:Sfounder arvha Foundation’s Acharya Anita had the privilege of addressing the senior students at Vardhman Shiksha Mandir\, a public school located in Delhi. She emphasized the importance of prioritizing their studies along with setting up goals and also engaged in an extensive discussion regarding personal hygiene.
URL:https://sarvha.org/calendar/interactive-session-with-sr-secondary-students/
LOCATION:Vardhman Shiksha Mandir\, Padam Chand Marg\, Parda Bagh\, Daryaganj\, New Delhi\, Delhi\, 110002\, India
CATEGORIES:Motivational
ATTACH;FMTTYPE=image/jpeg:https://sarvha.org/wp-content/uploads/2024/08/Vardhaman_Shiksha_Mandir_02.jpg
END:VEVENT
BEGIN:VEVENT
DTSTART;TZID=Asia/Kolkata:20240801T093000
DTEND;TZID=Asia/Kolkata:20240801T103000
DTSTAMP:20260422T132749
CREATED:20240802T084159Z
LAST-MODIFIED:20240802T084159Z
UID:7227-1722504600-1722508200@sarvha.org
SUMMARY:Tree Plantation & Sapling Distribution Drive
DESCRIPTION:The Sarvha Foundation is currently undertaking an extensive plantation initiative\, speaheaded by founder trustee Acharya Anita ji. She has distributed hundreds of saplings to villagers from the outskirts of the NCR while also promoting awarness regarding the importance of enviromental preservation.
URL:https://sarvha.org/calendar/tree-plantation-sapling-distribution-drive/
LOCATION:Delhi NCR\, Delhi\, India
ATTACH;FMTTYPE=image/jpeg:https://sarvha.org/wp-content/uploads/2024/08/Tree_Planatation_FI_01.jpg
END:VEVENT
BEGIN:VEVENT
DTSTART;TZID=Asia/Kolkata:20240722T110000
DTEND;TZID=Asia/Kolkata:20240722T133000
DTSTAMP:20260422T132749
CREATED:20240802T084843Z
LAST-MODIFIED:20240802T084843Z
UID:7229-1721646000-1721655000@sarvha.org
SUMMARY:Interaction with girl students at Gurukul
DESCRIPTION:The Sarvha Foundation team had a great interactive session with girl students of Shrimad Dayanand Kanya Gurukul Mahavidyalaya Chotipura\, Amroha\, Uttar Pradesh.
URL:https://sarvha.org/calendar/interaction-with-girl-students-at-gurukul/
LOCATION:Shrimad Dayanand Kanya Gurukul Mahavidyalaya\, Chotipura\, Amroha\, Uttar Pradesh\, India
CATEGORIES:Motivational
ATTACH;FMTTYPE=image/jpeg:https://sarvha.org/wp-content/uploads/2024/08/Kanya_Gurukul_FI_01.jpg
END:VEVENT
BEGIN:VEVENT
DTSTART;TZID=Asia/Kolkata:20240721T100000
DTEND;TZID=Asia/Kolkata:20240721T223000
DTSTAMP:20260422T132749
CREATED:20240802T083938Z
LAST-MODIFIED:20240802T083938Z
UID:7225-1721556000-1721601000@sarvha.org
SUMMARY:Tree Plantation Drive Celebration
DESCRIPTION:The Sarvha Foundationin NCR organized a massive tree plantating campaign. As the founder trustee of Sarvha\, Acharya Anita celebrated the plantation drive for enviromental conservation by planting a tree.
URL:https://sarvha.org/calendar/tree-plantation-drive-celebration/
LOCATION:Delhi NCR\, Delhi\, India
CATEGORIES:Environment,Welfare
ATTACH;FMTTYPE=image/jpeg:https://sarvha.org/wp-content/uploads/2024/08/Tree_Planatation_FI_03.jpg
END:VEVENT
BEGIN:VEVENT
DTSTART;TZID=Asia/Kolkata:20240618T110000
DTEND;TZID=Asia/Kolkata:20240618T130000
DTSTAMP:20260422T132749
CREATED:20240618T124124Z
LAST-MODIFIED:20240620T084142Z
UID:7211-1718708400-1718715600@sarvha.org
SUMMARY:Wellness Workshop for resident women @ NTPC Koldam\, HP
DESCRIPTION:During the interactive session of a wellness program specifically organized for the resident women from NTPC township Koldam\, Himachal Pradesh\, Acharya Anita\, founder trustee\, Sarvha Foundation had a stimulating conversation about how to infuse positivity\, motivation\, and spirituality into our daily routines.
URL:https://sarvha.org/calendar/wellness-workshop-for-resident-women-ntpc-koldam-hp/
LOCATION:NTPC\, Koldam\, Himachal Pradesh\, Koldam\, Jamthal\,\, Bilashpur\, Himachal Pradesh\, 174036\, India
CATEGORIES:Meditation,Motivational
ATTACH;FMTTYPE=image/jpeg:https://sarvha.org/wp-content/uploads/2024/06/Koldam_FI-02.jpg
END:VEVENT
BEGIN:VEVENT
DTSTART;TZID=Asia/Kolkata:20240615T113000
DTEND;TZID=Asia/Kolkata:20240615T120000
DTSTAMP:20260422T132749
CREATED:20240615T091030Z
LAST-MODIFIED:20240617T061048Z
UID:7205-1718451000-1718452800@sarvha.org
SUMMARY:Providing cold beverages to the Prakashdeep facilities staff
DESCRIPTION:During this scorching heatwave\, the Sarvha Foundation extended their humanitarian efforts by providing cold beverages to the dedicated Prakashdeep Building facilities staff .
URL:https://sarvha.org/calendar/providing-cold-beverages-to-the-prakashdeep-facilities-staff/
LOCATION:Prakash Deep Building\, 07 Tolstoy Marg\, Connaught Place\, New Delhi\, Delhi\, 110001\, India
CATEGORIES:Welfare
ATTACH;FMTTYPE=image/jpeg:https://sarvha.org/wp-content/uploads/2024/06/Jaljeeradrinks01_FI1.jpg
END:VEVENT
BEGIN:VEVENT
DTSTART;TZID=Asia/Kolkata:20240522T080000
DTEND;TZID=Asia/Kolkata:20240522T210000
DTSTAMP:20260422T132749
CREATED:20240525T080617Z
LAST-MODIFIED:20240525T080617Z
UID:7199-1716364800-1716411600@sarvha.org
SUMMARY:Tree Plantation Drive in the suburb of Delhi NCR
DESCRIPTION:The Sarvha Foundation\, as per its usual practice\, actively advocates for environmental consciousness\, facilitates tree plantation\, and distributes saplings to the general public. In response to our Foundation’s recent initiative aimed at motivating ordinary individuals to plant trees in their vicinity\, villagers residing in a suburb of Delhi have enthusiastically planted trees in their fields.
URL:https://sarvha.org/calendar/tree-plantation-drive-in-the-suburb-of-delhi-ncr/
LOCATION:Delhi NCR\, Delhi\, India
CATEGORIES:Environment,Welfare
ATTACH;FMTTYPE=image/jpeg:https://sarvha.org/wp-content/uploads/2024/05/Tree_plantation_may_24.jpg
END:VEVENT
BEGIN:VEVENT
DTSTART;TZID=Asia/Kolkata:20240518T110000
DTEND;TZID=Asia/Kolkata:20240518T133000
DTSTAMP:20260422T132749
CREATED:20240518T074037Z
LAST-MODIFIED:20240520T074215Z
UID:7194-1716030000-1716039000@sarvha.org
SUMMARY:Free Health Check-up camp @ Nehru Nagar
DESCRIPTION:In Nehru Nagar\, the Sarvha Foundation arranged a free health check-up camp. Individuals of diverse age groups visited the camp and utilized the welfare amenities.
URL:https://sarvha.org/calendar/free-health-check-up-camp-nehru-nagar-2/
LOCATION:Nehru Nagar\, Community Center\, Nehru Nagar\, New Delhi\, Delhi\, 110065\, India
CATEGORIES:Healthcare,Welfare
ATTACH;FMTTYPE=image/jpeg:https://sarvha.org/wp-content/uploads/2024/05/Nehru_Nagar_Health_Camp_FI-01.jpg
END:VEVENT
BEGIN:VEVENT
DTSTART;TZID=UTC:20240425T123000
DTEND;TZID=UTC:20240425T133000
DTSTAMP:20260422T132749
CREATED:20240426T004908Z
LAST-MODIFIED:20240506T083414Z
UID:7168-1714048200-1714051800@sarvha.org
SUMMARY:Giving away free water bottle & cold drinks
DESCRIPTION:A heat wave is affecting Delhi. In an effort to relieve the oppressive summer heat\, the Sarvha Foundation is giving away free water bottles and cold drinks to the public.
URL:https://sarvha.org/calendar/giving-away-free-water-bottle-cold-drinks/
LOCATION:Connaught Place\, Connaught Place\, New Delhi\, Delhi\, 110001\, India
CATEGORIES:Welfare
ATTACH;FMTTYPE=image/jpeg:https://sarvha.org/wp-content/uploads/2024/04/Juice-water-Bottle.jpg
END:VEVENT
BEGIN:VEVENT
DTSTART;TZID=UTC:20240418T110000
DTEND;TZID=UTC:20240418T133000
DTSTAMP:20260422T132749
CREATED:20240419T010707Z
LAST-MODIFIED:20240419T010707Z
UID:7108-1713438000-1713447000@sarvha.org
SUMMARY:Free Health Check Up Camp @ Wazirabad\, North of Delhi
DESCRIPTION:A free health check-up camp was organized by the Sarvha Foundation at Wazirabad’s Harijan Colony. Women of various ages attended the camp and made use of the welfare provisions.
URL:https://sarvha.org/calendar/free-health-check-up-camp-wazirabad-north-of-delhi/
LOCATION:Wazirabad Village\, Shiv Mandir\, Wazirabad Village\, Delhi\, Delhi\, 110084\, India
CATEGORIES:Healthcare,Welfare
ATTACH;FMTTYPE=image/jpeg:https://sarvha.org/wp-content/uploads/2024/04/Waz_FI_3_24.jpg
END:VEVENT
BEGIN:VEVENT
DTSTART;TZID=UTC:20240319T110000
DTEND;TZID=UTC:20240319T150000
DTSTAMP:20260422T132749
CREATED:20240320T013146Z
LAST-MODIFIED:20240320T013146Z
UID:7082-1710846000-1710860400@sarvha.org
SUMMARY:A picnic for the visually impaired students
DESCRIPTION:A picnic for the visually impaired students at Sundar Nursery was organized by Sarvha Foundation. By spending time with the students\, founder trustee Acharya Anita had a great time and inspired them to be courageous in life.
URL:https://sarvha.org/calendar/a-picnic-for-the-visually-impaired-students/
LOCATION:Sundar Nursery\, Sundar Nagar\, Nizamuddin\, New Delhi\, Delhi\, 110013\, India
CATEGORIES:Motivational,Welfare
ATTACH;FMTTYPE=image/jpeg:https://sarvha.org/wp-content/uploads/2024/03/Blind_School_Picnic_FI_1.jpg
END:VEVENT
BEGIN:VEVENT
DTSTART;TZID=UTC:20240316T100000
DTEND;TZID=UTC:20240316T230000
DTSTAMP:20260422T132749
CREATED:20240317T142229Z
LAST-MODIFIED:20240317T142229Z
UID:7077-1710583200-1710630000@sarvha.org
SUMMARY:Shoes distribution event in Delhi based Blind School
DESCRIPTION:Shoes were distributed by Sarvha Foundation to students in a Blind School in New Delhi.
URL:https://sarvha.org/calendar/shoes-distribution-event-in-delhi-based-blind-school/
LOCATION:Blind School\, Lajpat Nagar\, Lajpat Nagar\, New Delhi\, Delhi\, 110024\, India
CATEGORIES:Welfare
ATTACH;FMTTYPE=image/jpeg:https://sarvha.org/wp-content/uploads/2024/03/Blind_School_Shoes_01.jpg
END:VEVENT
BEGIN:VEVENT
DTSTART;TZID=UTC:20231227T153000
DTEND;TZID=UTC:20231227T163000
DTSTAMP:20260422T132749
CREATED:20231230T054418Z
LAST-MODIFIED:20231230T054418Z
UID:7053-1703691000-1703694600@sarvha.org
SUMMARY:Stationery give away to the needy students
DESCRIPTION:The Sarvha Foundation team gave storybooks\, notebooks\, and other stationery to the underprivileged students in a Delhi suburb.
URL:https://sarvha.org/calendar/stationery-give-away-to-the-needy-students/
LOCATION:Wazirabad Village\, Shiv Mandir\, Wazirabad Village\, Delhi\, Delhi\, 110084\, India
CATEGORIES:Welfare
ATTACH;FMTTYPE=image/jpeg:https://sarvha.org/wp-content/uploads/2023/12/Wazirabad_Stationeries_FI_2.jpg
END:VEVENT
BEGIN:VEVENT
DTSTART;TZID=UTC:20231225T130000
DTEND;TZID=UTC:20231225T140000
DTSTAMP:20260422T132749
CREATED:20231230T053938Z
LAST-MODIFIED:20231230T053938Z
UID:7051-1703509200-1703512800@sarvha.org
SUMMARY:Christmas Day Celebration @ Blind School\, New Delhi
DESCRIPTION:The founder of the Sarvha Foundation\, Acharya Anita\, gave stationery and spent quality time with the students of a blind school in New Delhi on Christmas Day.
URL:https://sarvha.org/calendar/christmas-day-celebration-blind-school-new-delhi/
LOCATION:Blind School\, Lajpat Nagar\, Lajpat Nagar\, New Delhi\, Delhi\, 110024\, India
CATEGORIES:Motivational,Welfare
ATTACH;FMTTYPE=image/jpeg:https://sarvha.org/wp-content/uploads/2023/12/Christmas_FI_1.jpg
END:VEVENT
END:VCALENDAR