BEGIN:VCALENDAR
VERSION:2.0
PRODID:-//Sarvha Foundation - ECPv6.15.12.2//NONSGML v1.0//EN
CALSCALE:GREGORIAN
METHOD:PUBLISH
X-WR-CALNAME:Sarvha Foundation
X-ORIGINAL-URL:https://sarvha.org
X-WR-CALDESC:Events for Sarvha Foundation
REFRESH-INTERVAL;VALUE=DURATION:PT1H
X-Robots-Tag:noindex
X-PUBLISHED-TTL:PT1H
BEGIN:VTIMEZONE
TZID:UTC
BEGIN:STANDARD
TZOFFSETFROM:+0000
TZOFFSETTO:+0000
TZNAME:UTC
DTSTART:20220101T000000
END:STANDARD
END:VTIMEZONE
BEGIN:VEVENT
DTSTART;TZID=UTC:20240425T123000
DTEND;TZID=UTC:20240425T133000
DTSTAMP:20260422T171310
CREATED:20240426T004908Z
LAST-MODIFIED:20240506T083414Z
UID:7168-1714048200-1714051800@sarvha.org
SUMMARY:Giving away free water bottle & cold drinks
DESCRIPTION:A heat wave is affecting Delhi. In an effort to relieve the oppressive summer heat\, the Sarvha Foundation is giving away free water bottles and cold drinks to the public.
URL:https://sarvha.org/calendar/giving-away-free-water-bottle-cold-drinks/
LOCATION:Connaught Place\, Connaught Place\, New Delhi\, Delhi\, 110001\, India
CATEGORIES:Welfare
ATTACH;FMTTYPE=image/jpeg:https://sarvha.org/wp-content/uploads/2024/04/Juice-water-Bottle.jpg
END:VEVENT
BEGIN:VEVENT
DTSTART;TZID=UTC:20240418T110000
DTEND;TZID=UTC:20240418T133000
DTSTAMP:20260422T171310
CREATED:20240419T010707Z
LAST-MODIFIED:20240419T010707Z
UID:7108-1713438000-1713447000@sarvha.org
SUMMARY:Free Health Check Up Camp @ Wazirabad\, North of Delhi
DESCRIPTION:A free health check-up camp was organized by the Sarvha Foundation at Wazirabad’s Harijan Colony. Women of various ages attended the camp and made use of the welfare provisions.
URL:https://sarvha.org/calendar/free-health-check-up-camp-wazirabad-north-of-delhi/
LOCATION:Wazirabad Village\, Shiv Mandir\, Wazirabad Village\, Delhi\, Delhi\, 110084\, India
CATEGORIES:Healthcare,Welfare
ATTACH;FMTTYPE=image/jpeg:https://sarvha.org/wp-content/uploads/2024/04/Waz_FI_3_24.jpg
END:VEVENT
BEGIN:VEVENT
DTSTART;TZID=UTC:20240319T110000
DTEND;TZID=UTC:20240319T150000
DTSTAMP:20260422T171310
CREATED:20240320T013146Z
LAST-MODIFIED:20240320T013146Z
UID:7082-1710846000-1710860400@sarvha.org
SUMMARY:A picnic for the visually impaired students
DESCRIPTION:A picnic for the visually impaired students at Sundar Nursery was organized by Sarvha Foundation. By spending time with the students\, founder trustee Acharya Anita had a great time and inspired them to be courageous in life.
URL:https://sarvha.org/calendar/a-picnic-for-the-visually-impaired-students/
LOCATION:Sundar Nursery\, Sundar Nagar\, Nizamuddin\, New Delhi\, Delhi\, 110013\, India
CATEGORIES:Motivational,Welfare
ATTACH;FMTTYPE=image/jpeg:https://sarvha.org/wp-content/uploads/2024/03/Blind_School_Picnic_FI_1.jpg
END:VEVENT
BEGIN:VEVENT
DTSTART;TZID=UTC:20240316T100000
DTEND;TZID=UTC:20240316T230000
DTSTAMP:20260422T171310
CREATED:20240317T142229Z
LAST-MODIFIED:20240317T142229Z
UID:7077-1710583200-1710630000@sarvha.org
SUMMARY:Shoes distribution event in Delhi based Blind School
DESCRIPTION:Shoes were distributed by Sarvha Foundation to students in a Blind School in New Delhi.
URL:https://sarvha.org/calendar/shoes-distribution-event-in-delhi-based-blind-school/
LOCATION:Blind School\, Lajpat Nagar\, Lajpat Nagar\, New Delhi\, Delhi\, 110024\, India
CATEGORIES:Welfare
ATTACH;FMTTYPE=image/jpeg:https://sarvha.org/wp-content/uploads/2024/03/Blind_School_Shoes_01.jpg
END:VEVENT
BEGIN:VEVENT
DTSTART;TZID=UTC:20231227T153000
DTEND;TZID=UTC:20231227T163000
DTSTAMP:20260422T171310
CREATED:20231230T054418Z
LAST-MODIFIED:20231230T054418Z
UID:7053-1703691000-1703694600@sarvha.org
SUMMARY:Stationery give away to the needy students
DESCRIPTION:The Sarvha Foundation team gave storybooks\, notebooks\, and other stationery to the underprivileged students in a Delhi suburb.
URL:https://sarvha.org/calendar/stationery-give-away-to-the-needy-students/
LOCATION:Wazirabad Village\, Shiv Mandir\, Wazirabad Village\, Delhi\, Delhi\, 110084\, India
CATEGORIES:Welfare
ATTACH;FMTTYPE=image/jpeg:https://sarvha.org/wp-content/uploads/2023/12/Wazirabad_Stationeries_FI_2.jpg
END:VEVENT
BEGIN:VEVENT
DTSTART;TZID=UTC:20231225T130000
DTEND;TZID=UTC:20231225T140000
DTSTAMP:20260422T171310
CREATED:20231230T053938Z
LAST-MODIFIED:20231230T053938Z
UID:7051-1703509200-1703512800@sarvha.org
SUMMARY:Christmas Day Celebration @ Blind School\, New Delhi
DESCRIPTION:The founder of the Sarvha Foundation\, Acharya Anita\, gave stationery and spent quality time with the students of a blind school in New Delhi on Christmas Day.
URL:https://sarvha.org/calendar/christmas-day-celebration-blind-school-new-delhi/
LOCATION:Blind School\, Lajpat Nagar\, Lajpat Nagar\, New Delhi\, Delhi\, 110024\, India
CATEGORIES:Motivational,Welfare
ATTACH;FMTTYPE=image/jpeg:https://sarvha.org/wp-content/uploads/2023/12/Christmas_FI_1.jpg
END:VEVENT
BEGIN:VEVENT
DTSTART;TZID=UTC:20231219T153000
DTEND;TZID=UTC:20231219T163000
DTSTAMP:20260422T171310
CREATED:20231220T023202Z
LAST-MODIFIED:20231220T023202Z
UID:7029-1702999800-1703003400@sarvha.org
SUMMARY:Motivational Interactive Session @ Self Defense Camp for girls
DESCRIPTION:Acharya Anita went to a self-defense camp in a village in Delhi where she interacted with girls to encourage them to get brave and learn self-defense.
URL:https://sarvha.org/calendar/motivational-interactive-session-self-defense-camp-for-girls/
LOCATION:Wazirabad Village\, Shiv Mandir\, Wazirabad Village\, Delhi\, Delhi\, 110084\, India
CATEGORIES:Motivational
ATTACH;FMTTYPE=image/jpeg:https://sarvha.org/wp-content/uploads/2023/12/Wazirabad_FI_2.jpg
END:VEVENT
BEGIN:VEVENT
DTSTART;TZID=UTC:20231216T080000
DTEND;TZID=UTC:20231216T170000
DTSTAMP:20260422T171310
CREATED:20231216T045745Z
LAST-MODIFIED:20231216T045745Z
UID:7016-1702713600-1702746000@sarvha.org
SUMMARY:Computer Education Center @ Faridabad
DESCRIPTION:An image from the collaborative computer education center run by the Sarvha Foundation with the Sohum Foundation in Faridabad\, where eager and underprivileged children from the neighborhood attend to receive the fundamentals of computers.
URL:https://sarvha.org/calendar/computer-education-center-faridabad/
LOCATION:Delhi
CATEGORIES:Skill Development,Welfare
ATTACH;FMTTYPE=image/jpeg:https://sarvha.org/wp-content/uploads/2023/12/Faridabad_center_1.jpg
END:VEVENT
BEGIN:VEVENT
DTSTART;TZID=UTC:20231205T110000
DTEND;TZID=UTC:20231205T130000
DTSTAMP:20260422T171310
CREATED:20231206T003737Z
LAST-MODIFIED:20231206T003737Z
UID:7008-1701774000-1701781200@sarvha.org
SUMMARY:Health Check up Camp @ Sector – 150\, Noida
DESCRIPTION:At an under construction building site in Sector 150\, Noida\, Sarvha Foundation hosted a free health screening and medicines distribution camp for construction workers.
URL:https://sarvha.org/calendar/health-check-up-camp-sector-150-noida-2/
LOCATION:Sector 150\, Antriksh Grand View\, Noida\, Uttar Pradesh\, 201301\, India
CATEGORIES:Healthcare,Welfare
ATTACH;FMTTYPE=image/jpeg:https://sarvha.org/wp-content/uploads/2023/12/Sector-150-Noida-Dec-23-3.jpg
END:VEVENT
BEGIN:VEVENT
DTSTART;TZID=UTC:20231201T080000
DTEND;TZID=UTC:20231201T170000
DTSTAMP:20260422T171310
CREATED:20231201T044006Z
LAST-MODIFIED:20231201T044006Z
UID:7001-1701417600-1701450000@sarvha.org
SUMMARY:Light food to those in need
DESCRIPTION:The Sarvha Foundation recently gave away light food to those in need.
URL:https://sarvha.org/calendar/light-food-to-those-in-need/
LOCATION:Delhi
CATEGORIES:Welfare
ATTACH;FMTTYPE=image/jpeg:https://sarvha.org/wp-content/uploads/2023/12/Food_distribution_Sarvha_01.jpg
END:VEVENT
BEGIN:VEVENT
DTSTART;TZID=UTC:20231125T170000
DTEND;TZID=UTC:20231125T180000
DTSTAMP:20260422T171310
CREATED:20231128T063616Z
LAST-MODIFIED:20231128T063616Z
UID:6996-1700931600-1700935200@sarvha.org
SUMMARY:Tea and snacks offering
DESCRIPTION:Recently\, Sarvha Foundation provided tea and snacks to the needy.
URL:https://sarvha.org/calendar/tea-and-snacks-offering/
LOCATION:Delhi NCR\, Delhi\, India
CATEGORIES:Welfare
ATTACH;FMTTYPE=image/jpeg:https://sarvha.org/wp-content/uploads/2023/11/Chai_FI_1.jpg
END:VEVENT
BEGIN:VEVENT
DTSTART;TZID=UTC:20231104T110000
DTEND;TZID=UTC:20231104T133000
DTSTAMP:20260422T171310
CREATED:20231107T025746Z
LAST-MODIFIED:20231107T025746Z
UID:6988-1699095600-1699104600@sarvha.org
SUMMARY:Free Health Check-up camp @ Nehru Nagar
DESCRIPTION:A free health check up camp was conducted by Sarvha Foundation at Nehru Nagar.
URL:https://sarvha.org/calendar/free-health-check-up-camp-nehru-nagar/
LOCATION:Nehru Nagar\, Community Center\, Nehru Nagar\, New Delhi\, Delhi\, 110065\, India
CATEGORIES:Healthcare,Welfare
ATTACH;FMTTYPE=image/jpeg:https://sarvha.org/wp-content/uploads/2023/11/Nehru_Nagar_2.jpg
END:VEVENT
BEGIN:VEVENT
DTSTART;TZID=UTC:20231029T100000
DTEND;TZID=UTC:20231029T123000
DTSTAMP:20260422T171310
CREATED:20231102T044109Z
LAST-MODIFIED:20231102T044109Z
UID:6979-1698573600-1698582600@sarvha.org
SUMMARY:Mindfulness Session @ Shree Ram Mandir\, Southall\, UK
DESCRIPTION:Founder Trustee Acharya Anita held an exciting session on mindfulness Meditation and Spiritual interaction with the Indian Society at Shree Ram Mandir\, Southall\, UK.
URL:https://sarvha.org/calendar/mindfulness-session-shree-ram-mandir-southall-uk/
LOCATION:Shree Ram Mandir\, 22 King St\, Southall UB2 4DA\, United Kingdom\, London\, United Kingdom
CATEGORIES:Meditation
ATTACH;FMTTYPE=image/jpeg:https://sarvha.org/wp-content/uploads/2023/11/UK_FI_1.jpg
END:VEVENT
BEGIN:VEVENT
DTSTART;TZID=UTC:20231021T170000
DTEND;TZID=UTC:20231021T183000
DTSTAMP:20260422T171310
CREATED:20231023T025551Z
LAST-MODIFIED:20231023T025551Z
UID:6972-1697907600-1697913000@sarvha.org
SUMMARY:Meditation Workshop @ Sangeet Shyamala
DESCRIPTION:A meditation workshop was held at Sangeet Shyamala.
URL:https://sarvha.org/calendar/meditation-workshop-sangeet-shyamala/
LOCATION:Sangeet Shyamala\, Vasant Vihar\, New Delhi\, Delhi\, 110057\, India
CATEGORIES:Meditation
ATTACH;FMTTYPE=image/jpeg:https://sarvha.org/wp-content/uploads/2023/10/SS-21-10-23.jpg
END:VEVENT
BEGIN:VEVENT
DTSTART;TZID=UTC:20231008T123000
DTEND;TZID=UTC:20231008T133000
DTSTAMP:20260422T171310
CREATED:20231023T014820Z
LAST-MODIFIED:20231023T014820Z
UID:6960-1696768200-1696771800@sarvha.org
SUMMARY:Mindfulness Meditation Session @ Sangeet Shyamala\, Vasant Vihar\, New Delhi
DESCRIPTION:A mindfulness meditation session was held at Sangeet Shyamala and conducted by foundation’s Acharya Anita ji.
URL:https://sarvha.org/calendar/mindfulness-meditation-session-sangeet-shyamala-vasant-vihar-new-delhi/
LOCATION:Sangeet Shyamala\, Vasant Vihar\, New Delhi\, Delhi\, 110057\, India
CATEGORIES:Meditation
ATTACH;FMTTYPE=image/jpeg:https://sarvha.org/wp-content/uploads/2023/10/SS_01.jpg
END:VEVENT
BEGIN:VEVENT
DTSTART;TZID=UTC:20230924T103000
DTEND;TZID=UTC:20230924T133000
DTSTAMP:20260422T171310
CREATED:20231023T022921Z
LAST-MODIFIED:20231023T022921Z
UID:6967-1695551400-1695562200@sarvha.org
SUMMARY:Health Check up camp @ Paharganj
DESCRIPTION:A free health check up camp was conducted by Sarvha Foundation at Motia Khan\, Paharganj\, Delhi – 110055
URL:https://sarvha.org/calendar/health-check-up-camp-paharganj/
LOCATION:Sunrise Apartment\, Motia Khan\, Paharganj\, New Delhi\, Delhi\, 110055\, India
CATEGORIES:Healthcare,Welfare
ATTACH;FMTTYPE=image/jpeg:https://sarvha.org/wp-content/uploads/2023/10/sunrise-fi-2.jpg
END:VEVENT
BEGIN:VEVENT
DTSTART;TZID=UTC:20230729T110000
DTEND;TZID=UTC:20230729T133000
DTSTAMP:20260422T171310
CREATED:20231023T022030Z
LAST-MODIFIED:20231023T022030Z
UID:6963-1690628400-1690637400@sarvha.org
SUMMARY:Free Health Check-up Camp @ Physics Wallah\, Kalu Sarai\, New Delhi
DESCRIPTION:A free health check up camp was held at Physics Wallah\, Kalu Sarai\, Hauz Khas center.
URL:https://sarvha.org/calendar/free-health-check-up-camp-physics-wallah-kalu-sarai-new-delhi/
LOCATION:Physics Wallah\, Vijay Mandal Enclave\, Kalu Sarai\, New Delhi\, Delhi\, 110016\, India
CATEGORIES:Healthcare
ATTACH;FMTTYPE=image/jpeg:https://sarvha.org/wp-content/uploads/2023/07/PhysicsWallah_FI_2.jpg
END:VEVENT
BEGIN:VEVENT
DTSTART;TZID=UTC:20230621T113000
DTEND;TZID=UTC:20230621T123000
DTSTAMP:20260422T171310
CREATED:20230621T131740Z
LAST-MODIFIED:20230621T131915Z
UID:6798-1687347000-1687350600@sarvha.org
SUMMARY:International Yoga Day 2023 Celebration @ Aradhana Old Age Home
DESCRIPTION:On the occasion of International Yoga Day 2023\, Sarvha Foundation had scheduled three group yoga sessions for the elderly residents of old age homes at three different locations.
URL:https://sarvha.org/calendar/international-yoga-day-2023-celebration-aradhana-old-age-home/
LOCATION:Aradhana Old Age Home\, Bhagwan Dass Road\, Mandi House\, New Delhi\, Delhi\, 110001\, India
CATEGORIES:Meditation
ATTACH;FMTTYPE=image/jpeg:https://sarvha.org/wp-content/uploads/2023/06/Yoga_day_aradhana_FI_2.jpg
END:VEVENT
BEGIN:VEVENT
DTSTART;TZID=UTC:20230621T100000
DTEND;TZID=UTC:20230621T110000
DTSTAMP:20260422T171310
CREATED:20230621T131254Z
LAST-MODIFIED:20230621T131254Z
UID:6795-1687341600-1687345200@sarvha.org
SUMMARY:International Yoga Day 2023 Celebration @ Aashirwad Old Age Home
DESCRIPTION:For the elderly residents of old age homes\, Sarvha Foundation had planned three common yoga sessions at three separate sites on the occasion of International Yoga Day 2023.
URL:https://sarvha.org/calendar/international-yoga-day-2023-celebration-aashirwad-old-age-home/
LOCATION:Aashiwad Old Age Home\, Kalibari Marg\, Gole Market\, New Delhi\, Delhi\, 110001\, India
CATEGORIES:Meditation
ATTACH;FMTTYPE=image/jpeg:https://sarvha.org/wp-content/uploads/2023/06/Yoga_day_aashirwad_FI_2.jpg
END:VEVENT
BEGIN:VEVENT
DTSTART;TZID=UTC:20230621T083000
DTEND;TZID=UTC:20230621T093000
DTSTAMP:20260422T171310
CREATED:20230621T130944Z
LAST-MODIFIED:20230621T132018Z
UID:6790-1687336200-1687339800@sarvha.org
SUMMARY:International Yoga Day 2023 Celebration @ Sandhya Old Age Home
DESCRIPTION:For the elderly residents of old age homes\, Sarvha Foundation had planned three common yoga sessions at three separate sites on the occasion of International Yoga Day 2023.
URL:https://sarvha.org/calendar/international-yoga-day-celebration-sandhya-old-age-home/
LOCATION:Sandhya Old Age Home\, Netaji Nagar\, New Delhi\, Delhi\, 110023\, India
CATEGORIES:Meditation
ATTACH;FMTTYPE=image/jpeg:https://sarvha.org/wp-content/uploads/2023/06/Yoga_day_sandhya_FI_2.jpg
END:VEVENT
BEGIN:VEVENT
DTSTART;TZID=UTC:20230620T070000
DTEND;TZID=UTC:20230620T080000
DTSTAMP:20260422T171310
CREATED:20230621T130452Z
LAST-MODIFIED:20230621T130452Z
UID:6787-1687244400-1687248000@sarvha.org
SUMMARY:Yoga Day Celebration @ Nepal Embassy
DESCRIPTION:
URL:https://sarvha.org/calendar/yoga-day-celebration-nepal-embassy/
LOCATION:Nepal Embassy\, Barakhamba Road\, New Delhi\, Delhi\, 110001\, India
CATEGORIES:Meditation
ATTACH;FMTTYPE=image/jpeg:https://sarvha.org/wp-content/uploads/2023/06/Nepal_Yoga_FI_2.jpg
END:VEVENT
BEGIN:VEVENT
DTSTART;TZID=UTC:20230518T100000
DTEND;TZID=UTC:20230518T133000
DTSTAMP:20260422T171310
CREATED:20230524T002351Z
LAST-MODIFIED:20230524T002351Z
UID:6724-1684404000-1684416600@sarvha.org
SUMMARY:Health Check up Camp @ Sector – 150\, Noida
DESCRIPTION:At Sector 150\, Noida\, Sarvha Foundation hosted a free health screening and medicines distribution camp for construction workers.
URL:https://sarvha.org/calendar/health-check-up-camp-sector-150-noida/
LOCATION:Sector 150\, Antriksh Grand View\, Noida\, Uttar Pradesh\, 201301\, India
CATEGORIES:Healthcare,Welfare
ATTACH;FMTTYPE=image/jpeg:https://sarvha.org/wp-content/uploads/2023/05/Sector-150-FI_2.jpg
END:VEVENT
BEGIN:VEVENT
DTSTART;TZID=UTC:20230514T090000
DTEND;TZID=UTC:20230514T123000
DTSTAMP:20260422T171310
CREATED:20230524T001757Z
LAST-MODIFIED:20230524T010330Z
UID:6720-1684054800-1684067400@sarvha.org
SUMMARY:Meditation Session @ Spiritual Retreat event\, Day 2
DESCRIPTION:On the second day of the Spiritual Retreat event in Rishikesh\, yoga\, meditation\, and a Vedic Havana process were performed.
URL:https://sarvha.org/calendar/meditation-session-spiritual-retreat-event-day-2/
LOCATION:Rishikesh\, Uttarakhand\, Rishikesh\, Uttarakhand\, 249201\, India
CATEGORIES:Meditation,Motivational
ATTACH;FMTTYPE=image/jpeg:https://sarvha.org/wp-content/uploads/2023/05/Meditation@Rishikesh_day_2-1.jpg
END:VEVENT
BEGIN:VEVENT
DTSTART;TZID=UTC:20230513T113000
DTEND;TZID=UTC:20230513T163000
DTSTAMP:20260422T171310
CREATED:20230524T001537Z
LAST-MODIFIED:20230524T001537Z
UID:6715-1683977400-1683995400@sarvha.org
SUMMARY:Global Spiritual Retreat Event @ Rishikesh\, Day 1
DESCRIPTION:Sarvha Foundation and The Global Trade and Technology Council India (GTTCI) proudly hosted a transformative Spiritual Retreat event in Rishikesh. Distinguished ambassadors and diplomats from seven nations were drawn to this remarkable event in order to begin a life-changing path of spiritual study and personal development.
URL:https://sarvha.org/calendar/global-spiritual-retreat-event-rishikesh-day-1/
LOCATION:Rishikesh\, Uttarakhand\, Rishikesh\, Uttarakhand\, 249201\, India
CATEGORIES:Meditation,Motivational
ATTACH;FMTTYPE=image/jpeg:https://sarvha.org/wp-content/uploads/2023/05/Rishikesh_FI_5.jpg
END:VEVENT
BEGIN:VEVENT
DTSTART;TZID=UTC:20230429T120000
DTEND;TZID=UTC:20230429T130000
DTSTAMP:20260422T171310
CREATED:20230524T003208Z
LAST-MODIFIED:20230524T003208Z
UID:6728-1682769600-1682773200@sarvha.org
SUMMARY:Books and stationery supplies distribution
DESCRIPTION:At a gathering held in North Delhi\,  Sarvha Foundation distributed storybooks\, drawing books\, notebooks\, and other stationery supplies to the underprivileged students.
URL:https://sarvha.org/calendar/books-and-stationery-supplies-distribution/
LOCATION:Wazirabad Village\, Shiv Mandir\, Wazirabad Village\, Delhi\, Delhi\, 110084\, India
CATEGORIES:Motivational,Welfare
ATTACH;FMTTYPE=image/jpeg:https://sarvha.org/wp-content/uploads/2023/05/Book_distribution_FI_2.jpg
END:VEVENT
BEGIN:VEVENT
DTSTART;TZID=UTC:20230426T080000
DTEND;TZID=UTC:20230426T170000
DTSTAMP:20260422T171310
CREATED:20230524T004146Z
LAST-MODIFIED:20230524T004146Z
UID:6732-1682496000-1682528400@sarvha.org
SUMMARY:Shoes distribution @ Blind School\, Delhi
DESCRIPTION:Sarvha Foundation donated brand-new pair of shoes to the blind school pupils in Lajpat Nagar\, Delhi.
URL:https://sarvha.org/calendar/shoes-distribution-blind-school-delhi/
LOCATION:Blind School\, Lajpat Nagar\, Lajpat Nagar\, New Delhi\, Delhi\, 110024\, India
CATEGORIES:Motivational,Welfare
ATTACH;FMTTYPE=image/jpeg:https://sarvha.org/wp-content/uploads/2023/04/shoes_FI_2.jpg
END:VEVENT
BEGIN:VEVENT
DTSTART;TZID=UTC:20230330T143000
DTEND;TZID=UTC:20230330T150000
DTSTAMP:20260422T171310
CREATED:20230330T020740Z
LAST-MODIFIED:20230331T022445Z
UID:6594-1680186600-1680188400@sarvha.org
SUMMARY:Tree Plantation on the occasion of Ram Navami
DESCRIPTION:A tree planting event was held on the auspicious occasion of Ram Navami.
URL:https://sarvha.org/calendar/tree-plantation-on-the-occasion-of-ram-navami/
LOCATION:Badarpur Border\, Tughlaqabad\, Mathura Road\, New Delhi\, Delhi\, 110044\, India
CATEGORIES:Environment
ATTACH;FMTTYPE=image/jpeg:https://sarvha.org/wp-content/uploads/2023/03/Tree_102.jpg
END:VEVENT
BEGIN:VEVENT
DTSTART;TZID=UTC:20230327T110000
DTEND;TZID=UTC:20230327T130000
DTSTAMP:20260422T171310
CREATED:20230327T020209Z
LAST-MODIFIED:20230331T020842Z
UID:6589-1679914800-1679922000@sarvha.org
SUMMARY:Free Health Check -up camp @ Gole Market\, New Delhi
DESCRIPTION:
URL:https://sarvha.org/calendar/free-health-check-up-camp-gole-market-new-delhi/
LOCATION:Gole Market\, Peshwa Road\, New Delhi\, Delhi\, 110001\, India
CATEGORIES:Healthcare
ATTACH;FMTTYPE=image/jpeg:https://sarvha.org/wp-content/uploads/2023/03/Gole-Health_23_FI_2.jpg
END:VEVENT
BEGIN:VEVENT
DTSTART;TZID=UTC:20230209T110000
DTEND;TZID=UTC:20230209T140000
DTSTAMP:20260422T171310
CREATED:20230211T012857Z
LAST-MODIFIED:20230211T012857Z
UID:6570-1675940400-1675951200@sarvha.org
SUMMARY:Free Health Check-up camp @ Connaught Place\, New Delhi
DESCRIPTION:
URL:https://sarvha.org/calendar/free-health-check-up-camp-connaught-place-new-delhi/
LOCATION:Prakash Deep Building\, 07 Tolstoy Marg\, Connaught Place\, New Delhi\, Delhi\, 110001\, India
CATEGORIES:Healthcare,Welfare
ATTACH;FMTTYPE=image/jpeg:https://sarvha.org/wp-content/uploads/2023/02/Prafi.jpg
END:VEVENT
BEGIN:VEVENT
DTSTART;TZID=UTC:20230117T130000
DTEND;TZID=UTC:20230117T133000
DTSTAMP:20260422T171310
CREATED:20230117T114812Z
LAST-MODIFIED:20230117T114812Z
UID:6562-1673960400-1673962200@sarvha.org
SUMMARY:Sweater Distribution Drive @ Malai Mandir\, Delhi
DESCRIPTION:
URL:https://sarvha.org/calendar/sweater-distribution-drive-malai-mandir-delhi/
LOCATION:R K Puram\, Palam Road\, New Delhi\, Delhi\, 110022
CATEGORIES:Welfare
ATTACH;FMTTYPE=image/jpeg:https://sarvha.org/wp-content/uploads/2023/01/Pandit_sweater_1A.jpg
END:VEVENT
END:VCALENDAR