BEGIN:VCALENDAR
VERSION:2.0
PRODID:-//Sarvha Foundation - ECPv6.15.12.2//NONSGML v1.0//EN
CALSCALE:GREGORIAN
METHOD:PUBLISH
X-WR-CALNAME:Sarvha Foundation
X-ORIGINAL-URL:https://sarvha.org
X-WR-CALDESC:Events for Sarvha Foundation
REFRESH-INTERVAL;VALUE=DURATION:PT1H
X-Robots-Tag:noindex
X-PUBLISHED-TTL:PT1H
BEGIN:VTIMEZONE
TZID:UTC
BEGIN:STANDARD
TZOFFSETFROM:+0000
TZOFFSETTO:+0000
TZNAME:UTC
DTSTART:20210101T000000
END:STANDARD
END:VTIMEZONE
BEGIN:VTIMEZONE
TZID:Asia/Kolkata
BEGIN:STANDARD
TZOFFSETFROM:+0530
TZOFFSETTO:+0530
TZNAME:IST
DTSTART:20200101T000000
END:STANDARD
END:VTIMEZONE
BEGIN:VEVENT
DTSTART;TZID=UTC:20221114T130000
DTEND;TZID=UTC:20221114T140000
DTSTAMP:20260422T213036
CREATED:20221114T140345Z
LAST-MODIFIED:20221124T050402Z
UID:6515-1668430800-1668434400@sarvha.org
SUMMARY:Food distribution for needy
DESCRIPTION:
URL:https://sarvha.org/calendar/food-distribution-for-needy/
LOCATION:Safderjung Hospital\, Ansari Nagar\, New Delhi\, Delhi\, 110029\, India
CATEGORIES:Welfare
ATTACH;FMTTYPE=image/jpeg:https://sarvha.org/wp-content/uploads/2022/11/Bhojan_FI_1.jpg
END:VEVENT
BEGIN:VEVENT
DTSTART;TZID=UTC:20220827T110000
DTEND;TZID=UTC:20220827T130000
DTSTAMP:20260422T213036
CREATED:20220827T125958Z
LAST-MODIFIED:20221124T050032Z
UID:6512-1661598000-1661605200@sarvha.org
SUMMARY:Free Health Check-up Camp at Pandara Road\, New Delhi
DESCRIPTION:
URL:https://sarvha.org/calendar/free-health-check-up-camp-at-pandara-road-new-delhi/
LOCATION:Pandara Road\, New Delhi\, Delhi\, 110003\, India
CATEGORIES:Healthcare
ATTACH;FMTTYPE=image/jpeg:https://sarvha.org/wp-content/uploads/2022/08/Pandara_road_health_camp_FI_aug_22.jpg
END:VEVENT
BEGIN:VEVENT
DTSTART;TZID=UTC:20220826T110000
DTEND;TZID=UTC:20220826T150000
DTSTAMP:20260422T213036
CREATED:20220826T125005Z
LAST-MODIFIED:20221124T045033Z
UID:6507-1661511600-1661526000@sarvha.org
SUMMARY:Tree Plantation Drive in Delhi NCR
DESCRIPTION:
URL:https://sarvha.org/calendar/tree-plantation-drive-in-delhi-ncr-3/
LOCATION:Delhi NCR\, Delhi\, India
CATEGORIES:Environment
ATTACH;FMTTYPE=image/jpeg:https://sarvha.org/wp-content/uploads/2022/11/Tree_plantation_Noida_FI.jpg
END:VEVENT
BEGIN:VEVENT
DTSTART;TZID=Asia/Kolkata:20220730T140000
DTEND;TZID=Asia/Kolkata:20220730T170000
DTSTAMP:20260422T213036
CREATED:20220730T134254Z
LAST-MODIFIED:20220730T134254Z
UID:3827-1659189600-1659200400@sarvha.org
SUMMARY:Tree Plantation Drive in Delhi NCR
DESCRIPTION:
URL:https://sarvha.org/calendar/tree-plantation-drive-in-delhi-ncr-2/
LOCATION:Delhi
CATEGORIES:Environment,Welfare
ATTACH;FMTTYPE=image/jpeg:https://sarvha.org/wp-content/uploads/2022/08/Tree_Gurgaon_22_FI_2.jpg
END:VEVENT
BEGIN:VEVENT
DTSTART;VALUE=DATE:20220709
DTEND;VALUE=DATE:20220712
DTSTAMP:20260422T213036
CREATED:20220715T104116Z
LAST-MODIFIED:20220715T104116Z
UID:3667-1657324800-1657583999@sarvha.org
SUMMARY:Pilgrimage for senior citizens
DESCRIPTION:Sarvha Foundation has arranged a pilgrimage for senior citizens of Wazirabad village\, Delhi. The pilgrimage went to Mathura and Vrindavan dham.
URL:https://sarvha.org/calendar/pilgrimage-for-senior-citizens/
LOCATION:Delhi
CATEGORIES:Welfare
ATTACH;FMTTYPE=image/jpeg:https://sarvha.org/wp-content/uploads/2022/07/Mathura_Vrindavan_FI.jpg
END:VEVENT
BEGIN:VEVENT
DTSTART;TZID=Asia/Kolkata:20220621T080000
DTEND;TZID=Asia/Kolkata:20220621T210000
DTSTAMP:20260422T213036
CREATED:20220621T102737Z
LAST-MODIFIED:20220621T102737Z
UID:3572-1655798400-1655845200@sarvha.org
SUMMARY:International Yoga Day 2022
DESCRIPTION:Sarvha Foundation’s founder trustee Aacharya Anita participated and performed yoga asanas at an event organised by the residents of an outskirt village in Delhi.
URL:https://sarvha.org/calendar/international-yoga-day-2022/
LOCATION:Delhi
CATEGORIES:Healthcare,Meditation,Motivational,Welfare
ATTACH;FMTTYPE=image/jpeg:https://sarvha.org/wp-content/uploads/2022/06/WhatsApp-Image-2022-06-21-at-10.27.37-AM.jpeg
END:VEVENT
BEGIN:VEVENT
DTSTART;TZID=Asia/Kolkata:20220616T080000
DTEND;TZID=Asia/Kolkata:20220616T170000
DTSTAMP:20260422T213036
CREATED:20220614T102205Z
LAST-MODIFIED:20220614T102205Z
UID:3569-1655366400-1655398800@sarvha.org
SUMMARY:Tree Plantation Drive on Blood Donor Day
DESCRIPTION:On the occasion of Blood Donor Day\,  Sarvha Foundation planted few saplings in New Delhi.
URL:https://sarvha.org/calendar/tree-plantation-drive-on-blood-donor-day/
LOCATION:Delhi
CATEGORIES:Welfare
END:VEVENT
BEGIN:VEVENT
DTSTART;TZID=Asia/Kolkata:20220609T103000
DTEND;TZID=Asia/Kolkata:20220609T130000
DTSTAMP:20260422T213036
CREATED:20220609T092210Z
LAST-MODIFIED:20220609T092210Z
UID:3562-1654770600-1654779600@sarvha.org
SUMMARY:Free Health Check Up Camp @ Gole Market
DESCRIPTION:Sarvha Foundation organised a free health check-up and medicine distribution camp at Peshwa Road\, Gole Market\, New Delhi.
URL:https://sarvha.org/calendar/free-health-check-up-camp-gole-market-4/
LOCATION:Delhi
CATEGORIES:Healthcare,Welfare
ATTACH;FMTTYPE=image/gif:https://sarvha.org/wp-content/uploads/2022/06/HealthCamp_june_22_FI_2.gif
END:VEVENT
BEGIN:VEVENT
DTSTART;TZID=Asia/Kolkata:20220531T100000
DTEND;TZID=Asia/Kolkata:20220531T120000
DTSTAMP:20260422T213036
CREATED:20220531T065145Z
LAST-MODIFIED:20220531T065145Z
UID:3552-1653991200-1653998400@sarvha.org
SUMMARY:Tree Plantation Drive on World No Tobacco Day
DESCRIPTION:On the occasion of  World No-Tobacco Day\, Sarvha Foundation has planted few saplings in New Delhi
URL:https://sarvha.org/calendar/tree-plantation-drive-on-world-no-tobacco-day/
LOCATION:Delhi
CATEGORIES:Welfare
END:VEVENT
BEGIN:VEVENT
DTSTART;TZID=Asia/Kolkata:20220508T110000
DTEND;TZID=Asia/Kolkata:20220508T120000
DTSTAMP:20260422T213036
CREATED:20220508T075923Z
LAST-MODIFIED:20220508T075923Z
UID:3477-1652007600-1652011200@sarvha.org
SUMMARY:Tree Plantation on the occasion of Mother's Day
DESCRIPTION:On the occasion of Mother’s Day\,  Trustee Acharya Anita had participated in a tree plantation drive in New Delhi organised by Sarvha Foundation.
URL:https://sarvha.org/calendar/tree-plantation-on-the-occasion-of-mothers-day/
LOCATION:Delhi
CATEGORIES:Environment,Welfare
END:VEVENT
BEGIN:VEVENT
DTSTART;TZID=Asia/Kolkata:20220402T110000
DTEND;TZID=Asia/Kolkata:20220402T130000
DTSTAMP:20260422T213036
CREATED:20220404T100913Z
LAST-MODIFIED:20220404T100913Z
UID:3427-1648897200-1648904400@sarvha.org
SUMMARY:Free health check-up
DESCRIPTION:Sarvha Foundation organised a free health check-up camp at Jaisalmer House Colony\, Man Singh Road\, New Delhi
URL:https://sarvha.org/calendar/free-health-check-up/
LOCATION:Delhi
CATEGORIES:Healthcare,Welfare
END:VEVENT
BEGIN:VEVENT
DTSTART;TZID=Asia/Kolkata:20220212T080000
DTEND;TZID=Asia/Kolkata:20220212T170000
DTSTAMP:20260422T213036
CREATED:20220212T102656Z
LAST-MODIFIED:20220212T102656Z
UID:3407-1644652800-1644685200@sarvha.org
SUMMARY:Vocational Center\, Wazirabad
DESCRIPTION:Sarvha Foundation’s cloth cutting\, stitching and hand embroidery skill development classes are going on at Wazirabad\, Delhi.
URL:https://sarvha.org/calendar/vocational-center-wazirabad/
LOCATION:Delhi
CATEGORIES:Skill Development,Welfare
ATTACH;FMTTYPE=image/jpeg:https://sarvha.org/wp-content/uploads/2022/02/WB-Center-1.jpg
END:VEVENT
BEGIN:VEVENT
DTSTART;TZID=Asia/Kolkata:20220211T113000
DTEND;TZID=Asia/Kolkata:20220211T163000
DTSTAMP:20260422T213036
CREATED:20220212T103024Z
LAST-MODIFIED:20220212T103024Z
UID:3410-1644579000-1644597000@sarvha.org
SUMMARY:Vocational Center\, Wazirabad
DESCRIPTION:Sarvha Foundation’s free for all basic computer classes are going on at Wazirabad center\, Delhi.
URL:https://sarvha.org/calendar/vocational-center-wazirabad-2/
LOCATION:Delhi
CATEGORIES:Skill Development,Welfare
ATTACH;FMTTYPE=image/jpeg:https://sarvha.org/wp-content/uploads/2022/02/IMG-20220212-WA0005.jpg
END:VEVENT
BEGIN:VEVENT
DTSTART;TZID=Asia/Kolkata:20220208T163000
DTEND;TZID=Asia/Kolkata:20220208T170000
DTSTAMP:20260422T213036
CREATED:20220212T101050Z
LAST-MODIFIED:20220212T101050Z
UID:3405-1644337800-1644339600@sarvha.org
SUMMARY:Serving the needy
DESCRIPTION:Founder Acharya Anita was serving a group of needy people in Delhi on 08-02-2022.
URL:https://sarvha.org/calendar/serving-the-needy/
LOCATION:Delhi
CATEGORIES:Welfare
ATTACH;FMTTYPE=image/jpeg:https://sarvha.org/wp-content/uploads/2022/02/FI.jpg
END:VEVENT
BEGIN:VEVENT
DTSTART;TZID=Asia/Kolkata:20211231T140000
DTEND;TZID=Asia/Kolkata:20211231T150000
DTSTAMP:20260422T213036
CREATED:20211231T104242Z
LAST-MODIFIED:20211231T104242Z
UID:3397-1640959200-1640962800@sarvha.org
SUMMARY:Supporting needy student
DESCRIPTION:Sarvha Foundation is starting this 2022 New Year with an upright happening. Decided to support a prospective needy girl student and founder Acharya Anita had handed over a laptop to the student’s father at Delhi.
URL:https://sarvha.org/calendar/supporting-needy-student/
LOCATION:Delhi
CATEGORIES:Welfare
ATTACH;FMTTYPE=image/jpeg:https://sarvha.org/wp-content/uploads/2022/02/Kulmoni_Laptop.jpg
END:VEVENT
BEGIN:VEVENT
DTSTART;TZID=Asia/Kolkata:20211206T150000
DTEND;TZID=Asia/Kolkata:20211206T170000
DTSTAMP:20260422T213036
CREATED:20211206T114201Z
LAST-MODIFIED:20211206T114201Z
UID:3393-1638802800-1638810000@sarvha.org
SUMMARY:Interactive session with a group of kids at Wazirabad village
DESCRIPTION:
URL:https://sarvha.org/calendar/interactive-session-with-a-group-of-kids-at-wazirabad-village/
LOCATION:Delhi
CATEGORIES:Motivational
ATTACH;FMTTYPE=image/gif:https://sarvha.org/wp-content/uploads/2021/12/WB2_web.gif
END:VEVENT
BEGIN:VEVENT
DTSTART;TZID=Asia/Kolkata:20211112T100000
DTEND;TZID=Asia/Kolkata:20211112T140000
DTSTAMP:20260422T213036
CREATED:20211208T112623Z
LAST-MODIFIED:20211208T112623Z
UID:3385-1636711200-1636725600@sarvha.org
SUMMARY:Free Health Check Up Camp - Man Singh Road
DESCRIPTION:
URL:https://sarvha.org/calendar/free-health-check-up-camp-man-singh-road-3/
LOCATION:Delhi
CATEGORIES:Healthcare,Welfare
ATTACH;FMTTYPE=image/gif:https://sarvha.org/wp-content/uploads/2021/12/man_singh_rd_camp_21.gif
END:VEVENT
BEGIN:VEVENT
DTSTART;VALUE=DATE:20211101
DTEND;VALUE=DATE:20211102
DTSTAMP:20260422T213036
CREATED:20211101T122527Z
LAST-MODIFIED:20211101T122527Z
UID:3377-1635724800-1635811199@sarvha.org
SUMMARY:Diwali with elderly citizens at Wazirabad\, Delhi
DESCRIPTION:On Monday\, 01 November 2021\, Sarvha Foundation has organised a Diwali event for the elderly citizens in North Delhi’s Wazirabad Village. In that event Foundation’s trustee Acharya Anita had a fruitful interactions session with the the villagers and distributed fruits\, sweets\, masks and environment friendly cotton bags. Afterwards the participant women have joined in a cleanliness program too.
URL:https://sarvha.org/calendar/diwali-with-elderly-citizens-at-wazirabad-delhi/
LOCATION:Delhi
CATEGORIES:Motivational,Welfare
ATTACH;FMTTYPE=image/jpeg:https://sarvha.org/wp-content/uploads/2021/11/IMG-20211101-WA0080.jpg
END:VEVENT
BEGIN:VEVENT
DTSTART;VALUE=DATE:20211001
DTEND;VALUE=DATE:20211002
DTSTAMP:20260422T213036
CREATED:20211001T125908Z
LAST-MODIFIED:20211001T125908Z
UID:3365-1633046400-1633132799@sarvha.org
SUMMARY:International Day of Older Persons
DESCRIPTION:On the occasion of International Day of Older Persons – 1st October\, founder trustee Aacharya Anita dedicated her time for the senior citizens society. Sarvha Foundation’s trustee Aacharya Anita facilitated a group of older women in an event at Wazirabad locality of Delhi and had a fruitful interaction session as well as distributed umbrellas to the group.
URL:https://sarvha.org/calendar/international-day-of-older-persons/
LOCATION:Delhi
CATEGORIES:Welfare
ATTACH;FMTTYPE=image/jpeg:https://sarvha.org/wp-content/uploads/2021/10/IMG-20211001-WA0016.jpg
END:VEVENT
BEGIN:VEVENT
DTSTART;VALUE=DATE:20210924
DTEND;VALUE=DATE:20210925
DTSTAMP:20260422T213036
CREATED:20210924T140757Z
LAST-MODIFIED:20210924T140757Z
UID:3368-1632441600-1632527999@sarvha.org
SUMMARY:Seva aur Samarpan Abhiyan
DESCRIPTION:Trustee Aacharya Anita was taking part at an event to conduct a Yoga and Meditation session meant for the on-going mega campaign ‘Seva aur Samarpan Abhiyan’ starting on September 17\, as PM Modi’s birthday in Delhi.
URL:https://sarvha.org/calendar/seva-aur-samarpan-abhiyan/
LOCATION:Delhi
CATEGORIES:Meditation,Motivational
ATTACH;FMTTYPE=image/jpeg:https://sarvha.org/wp-content/uploads/2021/10/IMG-20210924-WA0006.jpg
END:VEVENT
BEGIN:VEVENT
DTSTART;VALUE=DATE:20210827
DTEND;VALUE=DATE:20210828
DTSTAMP:20260422T213036
CREATED:20210827T083717Z
LAST-MODIFIED:20210827T083717Z
UID:3358-1630022400-1630108799@sarvha.org
SUMMARY:Tree plantation drive in Delhi NCR
DESCRIPTION:As part of Sarvha Foundation’s tree plantation initiative\, on 27th August 2021 a number of saplings planted and distributed in an outskirt village of Delhi NCR.
URL:https://sarvha.org/calendar/tree-plantation-drive-in-delhi-ncr/
LOCATION:Delhi
CATEGORIES:Environment,Welfare
ATTACH;FMTTYPE=image/gif:https://sarvha.org/wp-content/uploads/2021/08/Tree21-2.gif
END:VEVENT
BEGIN:VEVENT
DTSTART;VALUE=DATE:20210819
DTEND;VALUE=DATE:20210822
DTSTAMP:20260422T213036
CREATED:20210821T084758Z
LAST-MODIFIED:20210821T084758Z
UID:3355-1629331200-1629590399@sarvha.org
SUMMARY:Rakhis for Rakshabandhan
DESCRIPTION:Sarvha Foundation is facilitating a group of women in Delhi to make Rakhis for the upcoming Rakshabandhan festival. The aim of this initiative is to uplift young girls and give them the confidence to do something with their limited knowledge.
URL:https://sarvha.org/calendar/rakhis-for-rakshabandhan/
LOCATION:Delhi
CATEGORIES:Skill Development,Welfare
ATTACH;FMTTYPE=image/jpeg:https://sarvha.org/wp-content/uploads/2021/08/IMG-20210818-WA0003.jpg
END:VEVENT
BEGIN:VEVENT
DTSTART;VALUE=DATE:20210810
DTEND;VALUE=DATE:20210811
DTSTAMP:20260422T213036
CREATED:20210811T081909Z
LAST-MODIFIED:20210811T081909Z
UID:3344-1628553600-1628639999@sarvha.org
SUMMARY:
DESCRIPTION:Sarva Foundation organized a tree plantation drive in Delhi NCR on Tuesday\, 10th August 2021. Around 150 saplings were planted during the programme.
URL:https://sarvha.org/calendar/3344/
LOCATION:Delhi
CATEGORIES:Welfare
ATTACH;FMTTYPE=image/jpeg:https://sarvha.org/wp-content/uploads/2021/08/IMG-20210810-WA0006.jpg
END:VEVENT
BEGIN:VEVENT
DTSTART;VALUE=DATE:20210806
DTEND;VALUE=DATE:20210807
DTSTAMP:20260422T213036
CREATED:20210806T102037Z
LAST-MODIFIED:20210806T102037Z
UID:3336-1628208000-1628294399@sarvha.org
SUMMARY:Free Ration Distribution
DESCRIPTION:Acharya Anita\, founder trustee of Sarvha Foundation distributed Ration Relief Kit to the maintenance staff of Prakash Deep Building.
URL:https://sarvha.org/calendar/free-ration-distribution/
LOCATION:Delhi
CATEGORIES:Welfare
ATTACH;FMTTYPE=image/jpeg:https://sarvha.org/wp-content/uploads/2021/08/WhatsApp-Image-2021-08-06-at-12.25.20.jpg
END:VEVENT
BEGIN:VEVENT
DTSTART;TZID=Asia/Kolkata:20210728T113000
DTEND;TZID=Asia/Kolkata:20210728T133000
DTSTAMP:20260422T213036
CREATED:20210802T103107Z
LAST-MODIFIED:20210802T103107Z
UID:3331-1627471800-1627479000@sarvha.org
SUMMARY:Meditation session for girls and women and distribution of sanitary pads
DESCRIPTION:Trustee Acharya Anita conducted a meditation session for girls and women of all age groups in Delhi. It was effective session for everyone. Post the session\, Acharya Anita ji distributed sanitary pads to all the young girls.
URL:https://sarvha.org/calendar/meditation-session-for-girls-and-women-and-distribution-of-sanitary-pads/
LOCATION:Delhi
CATEGORIES:Meditation,Welfare
ATTACH;FMTTYPE=image/jpeg:https://sarvha.org/wp-content/uploads/2021/08/New-Project.jpg
END:VEVENT
BEGIN:VEVENT
DTSTART;VALUE=DATE:20210506
DTEND;VALUE=DATE:20210507
DTSTAMP:20260422T213036
CREATED:20210625T103127Z
LAST-MODIFIED:20210625T103127Z
UID:3321-1620259200-1620345599@sarvha.org
SUMMARY:Feeding the needy drive in Delhi NCR
DESCRIPTION:
URL:https://sarvha.org/calendar/feeding-the-needy-drive-in-delhi-ncr-12/
LOCATION:Delhi
CATEGORIES:Welfare
ATTACH;FMTTYPE=image/jpeg:https://sarvha.org/wp-content/uploads/2021/06/13.jpg
END:VEVENT
BEGIN:VEVENT
DTSTART;VALUE=DATE:20210504
DTEND;VALUE=DATE:20210505
DTSTAMP:20260422T213036
CREATED:20210625T102918Z
LAST-MODIFIED:20210625T102918Z
UID:3319-1620086400-1620172799@sarvha.org
SUMMARY:Feeding the needy drive in Delhi NCR
DESCRIPTION:
URL:https://sarvha.org/calendar/feeding-the-needy-drive-in-delhi-ncr-11/
LOCATION:Delhi
CATEGORIES:Welfare
ATTACH;FMTTYPE=image/jpeg:https://sarvha.org/wp-content/uploads/2021/06/15.jpg
END:VEVENT
BEGIN:VEVENT
DTSTART;VALUE=DATE:20210503
DTEND;VALUE=DATE:20210504
DTSTAMP:20260422T213036
CREATED:20210625T102525Z
LAST-MODIFIED:20210625T102525Z
UID:3315-1620000000-1620086399@sarvha.org
SUMMARY:Feeding the needy drive in Delhi NCR
DESCRIPTION:
URL:https://sarvha.org/calendar/feeding-the-needy-drive-in-delhi-ncr-9/
LOCATION:Delhi
ATTACH;FMTTYPE=image/jpeg:https://sarvha.org/wp-content/uploads/2021/06/16.jpg
END:VEVENT
BEGIN:VEVENT
DTSTART;TZID=Asia/Kolkata:20210502T080000
DTEND;TZID=Asia/Kolkata:20210502T170000
DTSTAMP:20260422T213036
CREATED:20210625T102352Z
LAST-MODIFIED:20210625T102352Z
UID:3313-1619942400-1619974800@sarvha.org
SUMMARY:Feeding the needy drive in Delhi NCR
DESCRIPTION:Sarvha Foundation is serving freshly cooked and hygienic meal packets to low-income sections of society in this hour of the pandemic in Delhi.
URL:https://sarvha.org/calendar/feeding-the-needy-drive-in-delhi-ncr-8/
LOCATION:Delhi
CATEGORIES:Welfare
ATTACH;FMTTYPE=image/jpeg:https://sarvha.org/wp-content/uploads/2021/06/14.jpg
END:VEVENT
BEGIN:VEVENT
DTSTART;VALUE=DATE:20210429
DTEND;VALUE=DATE:20210430
DTSTAMP:20260422T213036
CREATED:20210625T102041Z
LAST-MODIFIED:20210625T102041Z
UID:3309-1619654400-1619740799@sarvha.org
SUMMARY:Feeding the needy drive in Delhi NCR
DESCRIPTION:
URL:https://sarvha.org/calendar/feeding-the-needy-drive-in-delhi-ncr-6/
LOCATION:Delhi
CATEGORIES:Welfare
ATTACH;FMTTYPE=image/jpeg:https://sarvha.org/wp-content/uploads/2021/06/6.jpg
END:VEVENT
END:VCALENDAR